BEGIN:VCALENDAR
VERSION:2.0
PRODID:-//Synergy Healthworks - ECPv6.15.20//NONSGML v1.0//EN
CALSCALE:GREGORIAN
METHOD:PUBLISH
X-WR-CALNAME:Synergy Healthworks
X-ORIGINAL-URL:https://synergyhealthworks.com
X-WR-CALDESC:Events for Synergy Healthworks
REFRESH-INTERVAL;VALUE=DURATION:PT1H
X-Robots-Tag:noindex
X-PUBLISHED-TTL:PT1H
BEGIN:VTIMEZONE
TZID:Australia/Sydney
BEGIN:STANDARD
TZOFFSETFROM:+1100
TZOFFSETTO:+1000
TZNAME:AEST
DTSTART:20260404T160000
END:STANDARD
BEGIN:DAYLIGHT
TZOFFSETFROM:+1000
TZOFFSETTO:+1100
TZNAME:AEDT
DTSTART:20261003T160000
END:DAYLIGHT
BEGIN:STANDARD
TZOFFSETFROM:+1100
TZOFFSETTO:+1000
TZNAME:AEST
DTSTART:20270403T160000
END:STANDARD
BEGIN:DAYLIGHT
TZOFFSETFROM:+1000
TZOFFSETTO:+1100
TZNAME:AEDT
DTSTART:20271002T160000
END:DAYLIGHT
BEGIN:STANDARD
TZOFFSETFROM:+1100
TZOFFSETTO:+1000
TZNAME:AEST
DTSTART:20280401T160000
END:STANDARD
BEGIN:DAYLIGHT
TZOFFSETFROM:+1000
TZOFFSETTO:+1100
TZNAME:AEDT
DTSTART:20280930T160000
END:DAYLIGHT
END:VTIMEZONE
BEGIN:VEVENT
DTSTART;TZID=Australia/Sydney:20270928T123000
DTEND;TZID=Australia/Sydney:20270928T131500
DTSTAMP:20260424T012154
CREATED:20241204T010916Z
LAST-MODIFIED:20251123T223831Z
UID:10130114-1822134600-1822137300@synergyhealthworks.com
SUMMARY:Pregnancy Matwork Class
DESCRIPTION:
URL:https://synergyhealthworks.com/event/pregnancy-matwork-class-4/2027-09-28/
LOCATION:Wagga Wagga | Mat Studio\, 221 Kincaid Street\, Wagga Wagga\, NSW\, 2650\, Australia
CATEGORIES:Pregnancy Matwork
END:VEVENT
BEGIN:VEVENT
DTSTART;TZID=Australia/Sydney:20270929T123000
DTEND;TZID=Australia/Sydney:20270929T131500
DTSTAMP:20260424T012154
CREATED:20241204T014608Z
LAST-MODIFIED:20251123T221428Z
UID:10099378-1822221000-1822223700@synergyhealthworks.com
SUMMARY:Barre
DESCRIPTION:
URL:https://synergyhealthworks.com/event/barre-2/2027-09-29/
LOCATION:Wagga Wagga | Reformer Studio\, 221 Kincaid Street\, Wagga Wagga\, NSW\, 2650\, Australia
CATEGORIES:Barre
END:VEVENT
BEGIN:VEVENT
DTSTART;TZID=Australia/Sydney:20270929T140000
DTEND;TZID=Australia/Sydney:20270929T144500
DTSTAMP:20260424T012154
CREATED:20251123T222028Z
LAST-MODIFIED:20251123T222107Z
UID:10128280-1822226400-1822229100@synergyhealthworks.com
SUMMARY:Gentle Reformer
DESCRIPTION:
URL:https://synergyhealthworks.com/event/gentle-reformer-12/2027-09-29/
LOCATION:Wagga Wagga | Reformer Studio\, 221 Kincaid Street\, Wagga Wagga\, NSW\, 2650\, Australia
CATEGORIES:Clinical Reformer
END:VEVENT
BEGIN:VEVENT
DTSTART;TZID=Australia/Sydney:20271004T103000
DTEND;TZID=Australia/Sydney:20271004T111500
DTSTAMP:20260424T012154
CREATED:20241204T010434Z
LAST-MODIFIED:20251123T223251Z
UID:10129125-1822645800-1822648500@synergyhealthworks.com
SUMMARY:Matwork Core Class
DESCRIPTION:
URL:https://synergyhealthworks.com/event/matwork-core-class-12/2027-10-04/
LOCATION:Wagga Wagga | Mat Studio\, 221 Kincaid Street\, Wagga Wagga\, NSW\, 2650\, Australia
CATEGORIES:Matwork
END:VEVENT
BEGIN:VEVENT
DTSTART;TZID=Australia/Sydney:20271004T113000
DTEND;TZID=Australia/Sydney:20271004T121500
DTSTAMP:20260424T012154
CREATED:20251123T223427Z
LAST-MODIFIED:20251123T223427Z
UID:10129729-1822649400-1822652100@synergyhealthworks.com
SUMMARY:Mums and Bubs Core Class
DESCRIPTION:
URL:https://synergyhealthworks.com/event/mums-and-bubs-core-class-8/2027-10-04/
LOCATION:Wagga Wagga | Mat Studio\, 221 Kincaid Street\, Wagga Wagga\, NSW\, 2650\, Australia
CATEGORIES:Mums and Bubs
END:VEVENT
BEGIN:VEVENT
DTSTART;TZID=Australia/Sydney:20271005T123000
DTEND;TZID=Australia/Sydney:20271005T131500
DTSTAMP:20260424T012154
CREATED:20241204T010916Z
LAST-MODIFIED:20251123T223831Z
UID:10130115-1822739400-1822742100@synergyhealthworks.com
SUMMARY:Pregnancy Matwork Class
DESCRIPTION:
URL:https://synergyhealthworks.com/event/pregnancy-matwork-class-4/2027-10-05/
LOCATION:Wagga Wagga | Mat Studio\, 221 Kincaid Street\, Wagga Wagga\, NSW\, 2650\, Australia
CATEGORIES:Pregnancy Matwork
END:VEVENT
BEGIN:VEVENT
DTSTART;TZID=Australia/Sydney:20271006T123000
DTEND;TZID=Australia/Sydney:20271006T131500
DTSTAMP:20260424T012154
CREATED:20241204T014608Z
LAST-MODIFIED:20251123T221428Z
UID:10099379-1822825800-1822828500@synergyhealthworks.com
SUMMARY:Barre
DESCRIPTION:
URL:https://synergyhealthworks.com/event/barre-2/2027-10-06/
LOCATION:Wagga Wagga | Reformer Studio\, 221 Kincaid Street\, Wagga Wagga\, NSW\, 2650\, Australia
CATEGORIES:Barre
END:VEVENT
BEGIN:VEVENT
DTSTART;TZID=Australia/Sydney:20271006T140000
DTEND;TZID=Australia/Sydney:20271006T144500
DTSTAMP:20260424T012154
CREATED:20251123T222028Z
LAST-MODIFIED:20251123T222107Z
UID:10128281-1822831200-1822833900@synergyhealthworks.com
SUMMARY:Gentle Reformer
DESCRIPTION:
URL:https://synergyhealthworks.com/event/gentle-reformer-12/2027-10-06/
LOCATION:Wagga Wagga | Reformer Studio\, 221 Kincaid Street\, Wagga Wagga\, NSW\, 2650\, Australia
CATEGORIES:Clinical Reformer
END:VEVENT
BEGIN:VEVENT
DTSTART;TZID=Australia/Sydney:20271011T103000
DTEND;TZID=Australia/Sydney:20271011T111500
DTSTAMP:20260424T012154
CREATED:20241204T010434Z
LAST-MODIFIED:20251123T223251Z
UID:10129126-1823250600-1823253300@synergyhealthworks.com
SUMMARY:Matwork Core Class
DESCRIPTION:
URL:https://synergyhealthworks.com/event/matwork-core-class-12/2027-10-11/
LOCATION:Wagga Wagga | Mat Studio\, 221 Kincaid Street\, Wagga Wagga\, NSW\, 2650\, Australia
CATEGORIES:Matwork
END:VEVENT
BEGIN:VEVENT
DTSTART;TZID=Australia/Sydney:20271011T113000
DTEND;TZID=Australia/Sydney:20271011T121500
DTSTAMP:20260424T012154
CREATED:20251123T223427Z
LAST-MODIFIED:20251123T223427Z
UID:10129730-1823254200-1823256900@synergyhealthworks.com
SUMMARY:Mums and Bubs Core Class
DESCRIPTION:
URL:https://synergyhealthworks.com/event/mums-and-bubs-core-class-8/2027-10-11/
LOCATION:Wagga Wagga | Mat Studio\, 221 Kincaid Street\, Wagga Wagga\, NSW\, 2650\, Australia
CATEGORIES:Mums and Bubs
END:VEVENT
BEGIN:VEVENT
DTSTART;TZID=Australia/Sydney:20271012T123000
DTEND;TZID=Australia/Sydney:20271012T131500
DTSTAMP:20260424T012154
CREATED:20241204T010916Z
LAST-MODIFIED:20251123T223831Z
UID:10130116-1823344200-1823346900@synergyhealthworks.com
SUMMARY:Pregnancy Matwork Class
DESCRIPTION:
URL:https://synergyhealthworks.com/event/pregnancy-matwork-class-4/2027-10-12/
LOCATION:Wagga Wagga | Mat Studio\, 221 Kincaid Street\, Wagga Wagga\, NSW\, 2650\, Australia
CATEGORIES:Pregnancy Matwork
END:VEVENT
BEGIN:VEVENT
DTSTART;TZID=Australia/Sydney:20271013T123000
DTEND;TZID=Australia/Sydney:20271013T131500
DTSTAMP:20260424T012154
CREATED:20241204T014608Z
LAST-MODIFIED:20251123T221428Z
UID:10099380-1823430600-1823433300@synergyhealthworks.com
SUMMARY:Barre
DESCRIPTION:
URL:https://synergyhealthworks.com/event/barre-2/2027-10-13/
LOCATION:Wagga Wagga | Reformer Studio\, 221 Kincaid Street\, Wagga Wagga\, NSW\, 2650\, Australia
CATEGORIES:Barre
END:VEVENT
BEGIN:VEVENT
DTSTART;TZID=Australia/Sydney:20271013T140000
DTEND;TZID=Australia/Sydney:20271013T144500
DTSTAMP:20260424T012154
CREATED:20251123T222028Z
LAST-MODIFIED:20251123T222107Z
UID:10128282-1823436000-1823438700@synergyhealthworks.com
SUMMARY:Gentle Reformer
DESCRIPTION:
URL:https://synergyhealthworks.com/event/gentle-reformer-12/2027-10-13/
LOCATION:Wagga Wagga | Reformer Studio\, 221 Kincaid Street\, Wagga Wagga\, NSW\, 2650\, Australia
CATEGORIES:Clinical Reformer
END:VEVENT
BEGIN:VEVENT
DTSTART;TZID=Australia/Sydney:20271018T103000
DTEND;TZID=Australia/Sydney:20271018T111500
DTSTAMP:20260424T012154
CREATED:20241204T010434Z
LAST-MODIFIED:20251123T223251Z
UID:10129127-1823855400-1823858100@synergyhealthworks.com
SUMMARY:Matwork Core Class
DESCRIPTION:
URL:https://synergyhealthworks.com/event/matwork-core-class-12/2027-10-18/
LOCATION:Wagga Wagga | Mat Studio\, 221 Kincaid Street\, Wagga Wagga\, NSW\, 2650\, Australia
CATEGORIES:Matwork
END:VEVENT
BEGIN:VEVENT
DTSTART;TZID=Australia/Sydney:20271018T113000
DTEND;TZID=Australia/Sydney:20271018T121500
DTSTAMP:20260424T012154
CREATED:20251123T223427Z
LAST-MODIFIED:20251123T223427Z
UID:10129731-1823859000-1823861700@synergyhealthworks.com
SUMMARY:Mums and Bubs Core Class
DESCRIPTION:
URL:https://synergyhealthworks.com/event/mums-and-bubs-core-class-8/2027-10-18/
LOCATION:Wagga Wagga | Mat Studio\, 221 Kincaid Street\, Wagga Wagga\, NSW\, 2650\, Australia
CATEGORIES:Mums and Bubs
END:VEVENT
BEGIN:VEVENT
DTSTART;TZID=Australia/Sydney:20271019T123000
DTEND;TZID=Australia/Sydney:20271019T131500
DTSTAMP:20260424T012154
CREATED:20241204T010916Z
LAST-MODIFIED:20251123T223831Z
UID:10130117-1823949000-1823951700@synergyhealthworks.com
SUMMARY:Pregnancy Matwork Class
DESCRIPTION:
URL:https://synergyhealthworks.com/event/pregnancy-matwork-class-4/2027-10-19/
LOCATION:Wagga Wagga | Mat Studio\, 221 Kincaid Street\, Wagga Wagga\, NSW\, 2650\, Australia
CATEGORIES:Pregnancy Matwork
END:VEVENT
BEGIN:VEVENT
DTSTART;TZID=Australia/Sydney:20271020T123000
DTEND;TZID=Australia/Sydney:20271020T131500
DTSTAMP:20260424T012154
CREATED:20241204T014608Z
LAST-MODIFIED:20251123T221428Z
UID:10099381-1824035400-1824038100@synergyhealthworks.com
SUMMARY:Barre
DESCRIPTION:
URL:https://synergyhealthworks.com/event/barre-2/2027-10-20/
LOCATION:Wagga Wagga | Reformer Studio\, 221 Kincaid Street\, Wagga Wagga\, NSW\, 2650\, Australia
CATEGORIES:Barre
END:VEVENT
BEGIN:VEVENT
DTSTART;TZID=Australia/Sydney:20271020T140000
DTEND;TZID=Australia/Sydney:20271020T144500
DTSTAMP:20260424T012154
CREATED:20251123T222028Z
LAST-MODIFIED:20251123T222107Z
UID:10128283-1824040800-1824043500@synergyhealthworks.com
SUMMARY:Gentle Reformer
DESCRIPTION:
URL:https://synergyhealthworks.com/event/gentle-reformer-12/2027-10-20/
LOCATION:Wagga Wagga | Reformer Studio\, 221 Kincaid Street\, Wagga Wagga\, NSW\, 2650\, Australia
CATEGORIES:Clinical Reformer
END:VEVENT
BEGIN:VEVENT
DTSTART;TZID=Australia/Sydney:20271025T103000
DTEND;TZID=Australia/Sydney:20271025T111500
DTSTAMP:20260424T012154
CREATED:20241204T010434Z
LAST-MODIFIED:20251123T223251Z
UID:10129128-1824460200-1824462900@synergyhealthworks.com
SUMMARY:Matwork Core Class
DESCRIPTION:
URL:https://synergyhealthworks.com/event/matwork-core-class-12/2027-10-25/
LOCATION:Wagga Wagga | Mat Studio\, 221 Kincaid Street\, Wagga Wagga\, NSW\, 2650\, Australia
CATEGORIES:Matwork
END:VEVENT
BEGIN:VEVENT
DTSTART;TZID=Australia/Sydney:20271025T113000
DTEND;TZID=Australia/Sydney:20271025T121500
DTSTAMP:20260424T012154
CREATED:20251123T223427Z
LAST-MODIFIED:20251123T223427Z
UID:10129732-1824463800-1824466500@synergyhealthworks.com
SUMMARY:Mums and Bubs Core Class
DESCRIPTION:
URL:https://synergyhealthworks.com/event/mums-and-bubs-core-class-8/2027-10-25/
LOCATION:Wagga Wagga | Mat Studio\, 221 Kincaid Street\, Wagga Wagga\, NSW\, 2650\, Australia
CATEGORIES:Mums and Bubs
END:VEVENT
BEGIN:VEVENT
DTSTART;TZID=Australia/Sydney:20271026T123000
DTEND;TZID=Australia/Sydney:20271026T131500
DTSTAMP:20260424T012154
CREATED:20241204T010916Z
LAST-MODIFIED:20251123T223831Z
UID:10130118-1824553800-1824556500@synergyhealthworks.com
SUMMARY:Pregnancy Matwork Class
DESCRIPTION:
URL:https://synergyhealthworks.com/event/pregnancy-matwork-class-4/2027-10-26/
LOCATION:Wagga Wagga | Mat Studio\, 221 Kincaid Street\, Wagga Wagga\, NSW\, 2650\, Australia
CATEGORIES:Pregnancy Matwork
END:VEVENT
BEGIN:VEVENT
DTSTART;TZID=Australia/Sydney:20271027T123000
DTEND;TZID=Australia/Sydney:20271027T131500
DTSTAMP:20260424T012154
CREATED:20241204T014608Z
LAST-MODIFIED:20251123T221428Z
UID:10099382-1824640200-1824642900@synergyhealthworks.com
SUMMARY:Barre
DESCRIPTION:
URL:https://synergyhealthworks.com/event/barre-2/2027-10-27/
LOCATION:Wagga Wagga | Reformer Studio\, 221 Kincaid Street\, Wagga Wagga\, NSW\, 2650\, Australia
CATEGORIES:Barre
END:VEVENT
BEGIN:VEVENT
DTSTART;TZID=Australia/Sydney:20271027T140000
DTEND;TZID=Australia/Sydney:20271027T144500
DTSTAMP:20260424T012154
CREATED:20251123T222028Z
LAST-MODIFIED:20251123T222107Z
UID:10128284-1824645600-1824648300@synergyhealthworks.com
SUMMARY:Gentle Reformer
DESCRIPTION:
URL:https://synergyhealthworks.com/event/gentle-reformer-12/2027-10-27/
LOCATION:Wagga Wagga | Reformer Studio\, 221 Kincaid Street\, Wagga Wagga\, NSW\, 2650\, Australia
CATEGORIES:Clinical Reformer
END:VEVENT
BEGIN:VEVENT
DTSTART;TZID=Australia/Sydney:20271101T103000
DTEND;TZID=Australia/Sydney:20271101T111500
DTSTAMP:20260424T012154
CREATED:20241204T010434Z
LAST-MODIFIED:20251123T223251Z
UID:10129129-1825065000-1825067700@synergyhealthworks.com
SUMMARY:Matwork Core Class
DESCRIPTION:
URL:https://synergyhealthworks.com/event/matwork-core-class-12/2027-11-01/
LOCATION:Wagga Wagga | Mat Studio\, 221 Kincaid Street\, Wagga Wagga\, NSW\, 2650\, Australia
CATEGORIES:Matwork
END:VEVENT
BEGIN:VEVENT
DTSTART;TZID=Australia/Sydney:20271101T113000
DTEND;TZID=Australia/Sydney:20271101T121500
DTSTAMP:20260424T012154
CREATED:20251123T223427Z
LAST-MODIFIED:20251123T223427Z
UID:10129733-1825068600-1825071300@synergyhealthworks.com
SUMMARY:Mums and Bubs Core Class
DESCRIPTION:
URL:https://synergyhealthworks.com/event/mums-and-bubs-core-class-8/2027-11-01/
LOCATION:Wagga Wagga | Mat Studio\, 221 Kincaid Street\, Wagga Wagga\, NSW\, 2650\, Australia
CATEGORIES:Mums and Bubs
END:VEVENT
BEGIN:VEVENT
DTSTART;TZID=Australia/Sydney:20271102T123000
DTEND;TZID=Australia/Sydney:20271102T131500
DTSTAMP:20260424T012154
CREATED:20241204T010916Z
LAST-MODIFIED:20251123T223831Z
UID:10130119-1825158600-1825161300@synergyhealthworks.com
SUMMARY:Pregnancy Matwork Class
DESCRIPTION:
URL:https://synergyhealthworks.com/event/pregnancy-matwork-class-4/2027-11-02/
LOCATION:Wagga Wagga | Mat Studio\, 221 Kincaid Street\, Wagga Wagga\, NSW\, 2650\, Australia
CATEGORIES:Pregnancy Matwork
END:VEVENT
BEGIN:VEVENT
DTSTART;TZID=Australia/Sydney:20271103T123000
DTEND;TZID=Australia/Sydney:20271103T131500
DTSTAMP:20260424T012154
CREATED:20241204T014608Z
LAST-MODIFIED:20251123T221428Z
UID:10099383-1825245000-1825247700@synergyhealthworks.com
SUMMARY:Barre
DESCRIPTION:
URL:https://synergyhealthworks.com/event/barre-2/2027-11-03/
LOCATION:Wagga Wagga | Reformer Studio\, 221 Kincaid Street\, Wagga Wagga\, NSW\, 2650\, Australia
CATEGORIES:Barre
END:VEVENT
BEGIN:VEVENT
DTSTART;TZID=Australia/Sydney:20271103T140000
DTEND;TZID=Australia/Sydney:20271103T144500
DTSTAMP:20260424T012154
CREATED:20251123T222028Z
LAST-MODIFIED:20251123T222107Z
UID:10128285-1825250400-1825253100@synergyhealthworks.com
SUMMARY:Gentle Reformer
DESCRIPTION:
URL:https://synergyhealthworks.com/event/gentle-reformer-12/2027-11-03/
LOCATION:Wagga Wagga | Reformer Studio\, 221 Kincaid Street\, Wagga Wagga\, NSW\, 2650\, Australia
CATEGORIES:Clinical Reformer
END:VEVENT
BEGIN:VEVENT
DTSTART;TZID=Australia/Sydney:20271108T103000
DTEND;TZID=Australia/Sydney:20271108T111500
DTSTAMP:20260424T012154
CREATED:20241204T010434Z
LAST-MODIFIED:20251123T223251Z
UID:10129130-1825669800-1825672500@synergyhealthworks.com
SUMMARY:Matwork Core Class
DESCRIPTION:
URL:https://synergyhealthworks.com/event/matwork-core-class-12/2027-11-08/
LOCATION:Wagga Wagga | Mat Studio\, 221 Kincaid Street\, Wagga Wagga\, NSW\, 2650\, Australia
CATEGORIES:Matwork
END:VEVENT
BEGIN:VEVENT
DTSTART;TZID=Australia/Sydney:20271108T113000
DTEND;TZID=Australia/Sydney:20271108T121500
DTSTAMP:20260424T012154
CREATED:20251123T223427Z
LAST-MODIFIED:20251123T223427Z
UID:10129734-1825673400-1825676100@synergyhealthworks.com
SUMMARY:Mums and Bubs Core Class
DESCRIPTION:
URL:https://synergyhealthworks.com/event/mums-and-bubs-core-class-8/2027-11-08/
LOCATION:Wagga Wagga | Mat Studio\, 221 Kincaid Street\, Wagga Wagga\, NSW\, 2650\, Australia
CATEGORIES:Mums and Bubs
END:VEVENT
END:VCALENDAR