BEGIN:VCALENDAR
VERSION:2.0
PRODID:-//Synergy Healthworks - ECPv6.15.20//NONSGML v1.0//EN
CALSCALE:GREGORIAN
METHOD:PUBLISH
X-WR-CALNAME:Synergy Healthworks
X-ORIGINAL-URL:https://synergyhealthworks.com
X-WR-CALDESC:Events for Synergy Healthworks
REFRESH-INTERVAL;VALUE=DURATION:PT1H
X-Robots-Tag:noindex
X-PUBLISHED-TTL:PT1H
BEGIN:VTIMEZONE
TZID:Australia/Sydney
BEGIN:STANDARD
TZOFFSETFROM:+1100
TZOFFSETTO:+1000
TZNAME:AEST
DTSTART:20260404T160000
END:STANDARD
BEGIN:DAYLIGHT
TZOFFSETFROM:+1000
TZOFFSETTO:+1100
TZNAME:AEDT
DTSTART:20261003T160000
END:DAYLIGHT
BEGIN:STANDARD
TZOFFSETFROM:+1100
TZOFFSETTO:+1000
TZNAME:AEST
DTSTART:20270403T160000
END:STANDARD
BEGIN:DAYLIGHT
TZOFFSETFROM:+1000
TZOFFSETTO:+1100
TZNAME:AEDT
DTSTART:20271002T160000
END:DAYLIGHT
BEGIN:STANDARD
TZOFFSETFROM:+1100
TZOFFSETTO:+1000
TZNAME:AEST
DTSTART:20280401T160000
END:STANDARD
BEGIN:DAYLIGHT
TZOFFSETFROM:+1000
TZOFFSETTO:+1100
TZNAME:AEDT
DTSTART:20280930T160000
END:DAYLIGHT
END:VTIMEZONE
BEGIN:VEVENT
DTSTART;TZID=Australia/Sydney:20270809T113000
DTEND;TZID=Australia/Sydney:20270809T121500
DTSTAMP:20260423T203641
CREATED:20251123T223427Z
LAST-MODIFIED:20251123T223427Z
UID:10129721-1817811000-1817813700@synergyhealthworks.com
SUMMARY:Mums and Bubs Core Class
DESCRIPTION:
URL:https://synergyhealthworks.com/event/mums-and-bubs-core-class-8/2027-08-09/
LOCATION:Wagga Wagga | Mat Studio\, 221 Kincaid Street\, Wagga Wagga\, NSW\, 2650\, Australia
CATEGORIES:Mums and Bubs
END:VEVENT
BEGIN:VEVENT
DTSTART;TZID=Australia/Sydney:20270810T123000
DTEND;TZID=Australia/Sydney:20270810T131500
DTSTAMP:20260423T203641
CREATED:20241204T010916Z
LAST-MODIFIED:20251123T223831Z
UID:10130107-1817901000-1817903700@synergyhealthworks.com
SUMMARY:Pregnancy Matwork Class
DESCRIPTION:
URL:https://synergyhealthworks.com/event/pregnancy-matwork-class-4/2027-08-10/
LOCATION:Wagga Wagga | Mat Studio\, 221 Kincaid Street\, Wagga Wagga\, NSW\, 2650\, Australia
CATEGORIES:Pregnancy Matwork
END:VEVENT
BEGIN:VEVENT
DTSTART;TZID=Australia/Sydney:20270811T123000
DTEND;TZID=Australia/Sydney:20270811T131500
DTSTAMP:20260423T203641
CREATED:20241204T014608Z
LAST-MODIFIED:20251123T221428Z
UID:10099371-1817987400-1817990100@synergyhealthworks.com
SUMMARY:Barre
DESCRIPTION:
URL:https://synergyhealthworks.com/event/barre-2/2027-08-11/
LOCATION:Wagga Wagga | Reformer Studio\, 221 Kincaid Street\, Wagga Wagga\, NSW\, 2650\, Australia
CATEGORIES:Barre
END:VEVENT
BEGIN:VEVENT
DTSTART;TZID=Australia/Sydney:20270811T140000
DTEND;TZID=Australia/Sydney:20270811T144500
DTSTAMP:20260423T203641
CREATED:20251123T222028Z
LAST-MODIFIED:20251123T222107Z
UID:10128273-1817992800-1817995500@synergyhealthworks.com
SUMMARY:Gentle Reformer
DESCRIPTION:
URL:https://synergyhealthworks.com/event/gentle-reformer-12/2027-08-11/
LOCATION:Wagga Wagga | Reformer Studio\, 221 Kincaid Street\, Wagga Wagga\, NSW\, 2650\, Australia
CATEGORIES:Clinical Reformer
END:VEVENT
BEGIN:VEVENT
DTSTART;TZID=Australia/Sydney:20270816T103000
DTEND;TZID=Australia/Sydney:20270816T111500
DTSTAMP:20260423T203641
CREATED:20241204T010434Z
LAST-MODIFIED:20251123T223251Z
UID:10129118-1818412200-1818414900@synergyhealthworks.com
SUMMARY:Matwork Core Class
DESCRIPTION:
URL:https://synergyhealthworks.com/event/matwork-core-class-12/2027-08-16/
LOCATION:Wagga Wagga | Mat Studio\, 221 Kincaid Street\, Wagga Wagga\, NSW\, 2650\, Australia
CATEGORIES:Matwork
END:VEVENT
BEGIN:VEVENT
DTSTART;TZID=Australia/Sydney:20270816T113000
DTEND;TZID=Australia/Sydney:20270816T121500
DTSTAMP:20260423T203641
CREATED:20251123T223427Z
LAST-MODIFIED:20251123T223427Z
UID:10129722-1818415800-1818418500@synergyhealthworks.com
SUMMARY:Mums and Bubs Core Class
DESCRIPTION:
URL:https://synergyhealthworks.com/event/mums-and-bubs-core-class-8/2027-08-16/
LOCATION:Wagga Wagga | Mat Studio\, 221 Kincaid Street\, Wagga Wagga\, NSW\, 2650\, Australia
CATEGORIES:Mums and Bubs
END:VEVENT
BEGIN:VEVENT
DTSTART;TZID=Australia/Sydney:20270817T123000
DTEND;TZID=Australia/Sydney:20270817T131500
DTSTAMP:20260423T203641
CREATED:20241204T010916Z
LAST-MODIFIED:20251123T223831Z
UID:10130108-1818505800-1818508500@synergyhealthworks.com
SUMMARY:Pregnancy Matwork Class
DESCRIPTION:
URL:https://synergyhealthworks.com/event/pregnancy-matwork-class-4/2027-08-17/
LOCATION:Wagga Wagga | Mat Studio\, 221 Kincaid Street\, Wagga Wagga\, NSW\, 2650\, Australia
CATEGORIES:Pregnancy Matwork
END:VEVENT
BEGIN:VEVENT
DTSTART;TZID=Australia/Sydney:20270818T123000
DTEND;TZID=Australia/Sydney:20270818T131500
DTSTAMP:20260423T203641
CREATED:20241204T014608Z
LAST-MODIFIED:20251123T221428Z
UID:10099372-1818592200-1818594900@synergyhealthworks.com
SUMMARY:Barre
DESCRIPTION:
URL:https://synergyhealthworks.com/event/barre-2/2027-08-18/
LOCATION:Wagga Wagga | Reformer Studio\, 221 Kincaid Street\, Wagga Wagga\, NSW\, 2650\, Australia
CATEGORIES:Barre
END:VEVENT
BEGIN:VEVENT
DTSTART;TZID=Australia/Sydney:20270818T140000
DTEND;TZID=Australia/Sydney:20270818T144500
DTSTAMP:20260423T203641
CREATED:20251123T222028Z
LAST-MODIFIED:20251123T222107Z
UID:10128274-1818597600-1818600300@synergyhealthworks.com
SUMMARY:Gentle Reformer
DESCRIPTION:
URL:https://synergyhealthworks.com/event/gentle-reformer-12/2027-08-18/
LOCATION:Wagga Wagga | Reformer Studio\, 221 Kincaid Street\, Wagga Wagga\, NSW\, 2650\, Australia
CATEGORIES:Clinical Reformer
END:VEVENT
BEGIN:VEVENT
DTSTART;TZID=Australia/Sydney:20270823T103000
DTEND;TZID=Australia/Sydney:20270823T111500
DTSTAMP:20260423T203641
CREATED:20241204T010434Z
LAST-MODIFIED:20251123T223251Z
UID:10129119-1819017000-1819019700@synergyhealthworks.com
SUMMARY:Matwork Core Class
DESCRIPTION:
URL:https://synergyhealthworks.com/event/matwork-core-class-12/2027-08-23/
LOCATION:Wagga Wagga | Mat Studio\, 221 Kincaid Street\, Wagga Wagga\, NSW\, 2650\, Australia
CATEGORIES:Matwork
END:VEVENT
BEGIN:VEVENT
DTSTART;TZID=Australia/Sydney:20270823T113000
DTEND;TZID=Australia/Sydney:20270823T121500
DTSTAMP:20260423T203641
CREATED:20251123T223427Z
LAST-MODIFIED:20251123T223427Z
UID:10129723-1819020600-1819023300@synergyhealthworks.com
SUMMARY:Mums and Bubs Core Class
DESCRIPTION:
URL:https://synergyhealthworks.com/event/mums-and-bubs-core-class-8/2027-08-23/
LOCATION:Wagga Wagga | Mat Studio\, 221 Kincaid Street\, Wagga Wagga\, NSW\, 2650\, Australia
CATEGORIES:Mums and Bubs
END:VEVENT
BEGIN:VEVENT
DTSTART;TZID=Australia/Sydney:20270824T123000
DTEND;TZID=Australia/Sydney:20270824T131500
DTSTAMP:20260423T203641
CREATED:20241204T010916Z
LAST-MODIFIED:20251123T223831Z
UID:10130109-1819110600-1819113300@synergyhealthworks.com
SUMMARY:Pregnancy Matwork Class
DESCRIPTION:
URL:https://synergyhealthworks.com/event/pregnancy-matwork-class-4/2027-08-24/
LOCATION:Wagga Wagga | Mat Studio\, 221 Kincaid Street\, Wagga Wagga\, NSW\, 2650\, Australia
CATEGORIES:Pregnancy Matwork
END:VEVENT
BEGIN:VEVENT
DTSTART;TZID=Australia/Sydney:20270825T123000
DTEND;TZID=Australia/Sydney:20270825T131500
DTSTAMP:20260423T203641
CREATED:20241204T014608Z
LAST-MODIFIED:20251123T221428Z
UID:10099373-1819197000-1819199700@synergyhealthworks.com
SUMMARY:Barre
DESCRIPTION:
URL:https://synergyhealthworks.com/event/barre-2/2027-08-25/
LOCATION:Wagga Wagga | Reformer Studio\, 221 Kincaid Street\, Wagga Wagga\, NSW\, 2650\, Australia
CATEGORIES:Barre
END:VEVENT
BEGIN:VEVENT
DTSTART;TZID=Australia/Sydney:20270825T140000
DTEND;TZID=Australia/Sydney:20270825T144500
DTSTAMP:20260423T203641
CREATED:20251123T222028Z
LAST-MODIFIED:20251123T222107Z
UID:10128275-1819202400-1819205100@synergyhealthworks.com
SUMMARY:Gentle Reformer
DESCRIPTION:
URL:https://synergyhealthworks.com/event/gentle-reformer-12/2027-08-25/
LOCATION:Wagga Wagga | Reformer Studio\, 221 Kincaid Street\, Wagga Wagga\, NSW\, 2650\, Australia
CATEGORIES:Clinical Reformer
END:VEVENT
BEGIN:VEVENT
DTSTART;TZID=Australia/Sydney:20270830T103000
DTEND;TZID=Australia/Sydney:20270830T111500
DTSTAMP:20260423T203641
CREATED:20241204T010434Z
LAST-MODIFIED:20251123T223251Z
UID:10129120-1819621800-1819624500@synergyhealthworks.com
SUMMARY:Matwork Core Class
DESCRIPTION:
URL:https://synergyhealthworks.com/event/matwork-core-class-12/2027-08-30/
LOCATION:Wagga Wagga | Mat Studio\, 221 Kincaid Street\, Wagga Wagga\, NSW\, 2650\, Australia
CATEGORIES:Matwork
END:VEVENT
BEGIN:VEVENT
DTSTART;TZID=Australia/Sydney:20270830T113000
DTEND;TZID=Australia/Sydney:20270830T121500
DTSTAMP:20260423T203641
CREATED:20251123T223427Z
LAST-MODIFIED:20251123T223427Z
UID:10129724-1819625400-1819628100@synergyhealthworks.com
SUMMARY:Mums and Bubs Core Class
DESCRIPTION:
URL:https://synergyhealthworks.com/event/mums-and-bubs-core-class-8/2027-08-30/
LOCATION:Wagga Wagga | Mat Studio\, 221 Kincaid Street\, Wagga Wagga\, NSW\, 2650\, Australia
CATEGORIES:Mums and Bubs
END:VEVENT
BEGIN:VEVENT
DTSTART;TZID=Australia/Sydney:20270831T123000
DTEND;TZID=Australia/Sydney:20270831T131500
DTSTAMP:20260423T203641
CREATED:20241204T010916Z
LAST-MODIFIED:20251123T223831Z
UID:10130110-1819715400-1819718100@synergyhealthworks.com
SUMMARY:Pregnancy Matwork Class
DESCRIPTION:
URL:https://synergyhealthworks.com/event/pregnancy-matwork-class-4/2027-08-31/
LOCATION:Wagga Wagga | Mat Studio\, 221 Kincaid Street\, Wagga Wagga\, NSW\, 2650\, Australia
CATEGORIES:Pregnancy Matwork
END:VEVENT
BEGIN:VEVENT
DTSTART;TZID=Australia/Sydney:20270901T123000
DTEND;TZID=Australia/Sydney:20270901T131500
DTSTAMP:20260423T203641
CREATED:20241204T014608Z
LAST-MODIFIED:20251123T221428Z
UID:10099374-1819801800-1819804500@synergyhealthworks.com
SUMMARY:Barre
DESCRIPTION:
URL:https://synergyhealthworks.com/event/barre-2/2027-09-01/
LOCATION:Wagga Wagga | Reformer Studio\, 221 Kincaid Street\, Wagga Wagga\, NSW\, 2650\, Australia
CATEGORIES:Barre
END:VEVENT
BEGIN:VEVENT
DTSTART;TZID=Australia/Sydney:20270901T140000
DTEND;TZID=Australia/Sydney:20270901T144500
DTSTAMP:20260423T203641
CREATED:20251123T222028Z
LAST-MODIFIED:20251123T222107Z
UID:10128276-1819807200-1819809900@synergyhealthworks.com
SUMMARY:Gentle Reformer
DESCRIPTION:
URL:https://synergyhealthworks.com/event/gentle-reformer-12/2027-09-01/
LOCATION:Wagga Wagga | Reformer Studio\, 221 Kincaid Street\, Wagga Wagga\, NSW\, 2650\, Australia
CATEGORIES:Clinical Reformer
END:VEVENT
BEGIN:VEVENT
DTSTART;TZID=Australia/Sydney:20270906T103000
DTEND;TZID=Australia/Sydney:20270906T111500
DTSTAMP:20260423T203641
CREATED:20241204T010434Z
LAST-MODIFIED:20251123T223251Z
UID:10129121-1820226600-1820229300@synergyhealthworks.com
SUMMARY:Matwork Core Class
DESCRIPTION:
URL:https://synergyhealthworks.com/event/matwork-core-class-12/2027-09-06/
LOCATION:Wagga Wagga | Mat Studio\, 221 Kincaid Street\, Wagga Wagga\, NSW\, 2650\, Australia
CATEGORIES:Matwork
END:VEVENT
BEGIN:VEVENT
DTSTART;TZID=Australia/Sydney:20270906T113000
DTEND;TZID=Australia/Sydney:20270906T121500
DTSTAMP:20260423T203641
CREATED:20251123T223427Z
LAST-MODIFIED:20251123T223427Z
UID:10129725-1820230200-1820232900@synergyhealthworks.com
SUMMARY:Mums and Bubs Core Class
DESCRIPTION:
URL:https://synergyhealthworks.com/event/mums-and-bubs-core-class-8/2027-09-06/
LOCATION:Wagga Wagga | Mat Studio\, 221 Kincaid Street\, Wagga Wagga\, NSW\, 2650\, Australia
CATEGORIES:Mums and Bubs
END:VEVENT
BEGIN:VEVENT
DTSTART;TZID=Australia/Sydney:20270907T123000
DTEND;TZID=Australia/Sydney:20270907T131500
DTSTAMP:20260423T203641
CREATED:20241204T010916Z
LAST-MODIFIED:20251123T223831Z
UID:10130111-1820320200-1820322900@synergyhealthworks.com
SUMMARY:Pregnancy Matwork Class
DESCRIPTION:
URL:https://synergyhealthworks.com/event/pregnancy-matwork-class-4/2027-09-07/
LOCATION:Wagga Wagga | Mat Studio\, 221 Kincaid Street\, Wagga Wagga\, NSW\, 2650\, Australia
CATEGORIES:Pregnancy Matwork
END:VEVENT
BEGIN:VEVENT
DTSTART;TZID=Australia/Sydney:20270908T123000
DTEND;TZID=Australia/Sydney:20270908T131500
DTSTAMP:20260423T203641
CREATED:20241204T014608Z
LAST-MODIFIED:20251123T221428Z
UID:10099375-1820406600-1820409300@synergyhealthworks.com
SUMMARY:Barre
DESCRIPTION:
URL:https://synergyhealthworks.com/event/barre-2/2027-09-08/
LOCATION:Wagga Wagga | Reformer Studio\, 221 Kincaid Street\, Wagga Wagga\, NSW\, 2650\, Australia
CATEGORIES:Barre
END:VEVENT
BEGIN:VEVENT
DTSTART;TZID=Australia/Sydney:20270908T140000
DTEND;TZID=Australia/Sydney:20270908T144500
DTSTAMP:20260423T203641
CREATED:20251123T222028Z
LAST-MODIFIED:20251123T222107Z
UID:10128277-1820412000-1820414700@synergyhealthworks.com
SUMMARY:Gentle Reformer
DESCRIPTION:
URL:https://synergyhealthworks.com/event/gentle-reformer-12/2027-09-08/
LOCATION:Wagga Wagga | Reformer Studio\, 221 Kincaid Street\, Wagga Wagga\, NSW\, 2650\, Australia
CATEGORIES:Clinical Reformer
END:VEVENT
BEGIN:VEVENT
DTSTART;TZID=Australia/Sydney:20270913T103000
DTEND;TZID=Australia/Sydney:20270913T111500
DTSTAMP:20260423T203641
CREATED:20241204T010434Z
LAST-MODIFIED:20251123T223251Z
UID:10129122-1820831400-1820834100@synergyhealthworks.com
SUMMARY:Matwork Core Class
DESCRIPTION:
URL:https://synergyhealthworks.com/event/matwork-core-class-12/2027-09-13/
LOCATION:Wagga Wagga | Mat Studio\, 221 Kincaid Street\, Wagga Wagga\, NSW\, 2650\, Australia
CATEGORIES:Matwork
END:VEVENT
BEGIN:VEVENT
DTSTART;TZID=Australia/Sydney:20270913T113000
DTEND;TZID=Australia/Sydney:20270913T121500
DTSTAMP:20260423T203641
CREATED:20251123T223427Z
LAST-MODIFIED:20251123T223427Z
UID:10129726-1820835000-1820837700@synergyhealthworks.com
SUMMARY:Mums and Bubs Core Class
DESCRIPTION:
URL:https://synergyhealthworks.com/event/mums-and-bubs-core-class-8/2027-09-13/
LOCATION:Wagga Wagga | Mat Studio\, 221 Kincaid Street\, Wagga Wagga\, NSW\, 2650\, Australia
CATEGORIES:Mums and Bubs
END:VEVENT
BEGIN:VEVENT
DTSTART;TZID=Australia/Sydney:20270914T123000
DTEND;TZID=Australia/Sydney:20270914T131500
DTSTAMP:20260423T203641
CREATED:20241204T010916Z
LAST-MODIFIED:20251123T223831Z
UID:10130112-1820925000-1820927700@synergyhealthworks.com
SUMMARY:Pregnancy Matwork Class
DESCRIPTION:
URL:https://synergyhealthworks.com/event/pregnancy-matwork-class-4/2027-09-14/
LOCATION:Wagga Wagga | Mat Studio\, 221 Kincaid Street\, Wagga Wagga\, NSW\, 2650\, Australia
CATEGORIES:Pregnancy Matwork
END:VEVENT
BEGIN:VEVENT
DTSTART;TZID=Australia/Sydney:20270915T123000
DTEND;TZID=Australia/Sydney:20270915T131500
DTSTAMP:20260423T203641
CREATED:20241204T014608Z
LAST-MODIFIED:20251123T221428Z
UID:10099376-1821011400-1821014100@synergyhealthworks.com
SUMMARY:Barre
DESCRIPTION:
URL:https://synergyhealthworks.com/event/barre-2/2027-09-15/
LOCATION:Wagga Wagga | Reformer Studio\, 221 Kincaid Street\, Wagga Wagga\, NSW\, 2650\, Australia
CATEGORIES:Barre
END:VEVENT
BEGIN:VEVENT
DTSTART;TZID=Australia/Sydney:20270915T140000
DTEND;TZID=Australia/Sydney:20270915T144500
DTSTAMP:20260423T203641
CREATED:20251123T222028Z
LAST-MODIFIED:20251123T222107Z
UID:10128278-1821016800-1821019500@synergyhealthworks.com
SUMMARY:Gentle Reformer
DESCRIPTION:
URL:https://synergyhealthworks.com/event/gentle-reformer-12/2027-09-15/
LOCATION:Wagga Wagga | Reformer Studio\, 221 Kincaid Street\, Wagga Wagga\, NSW\, 2650\, Australia
CATEGORIES:Clinical Reformer
END:VEVENT
BEGIN:VEVENT
DTSTART;TZID=Australia/Sydney:20270920T103000
DTEND;TZID=Australia/Sydney:20270920T111500
DTSTAMP:20260423T203641
CREATED:20241204T010434Z
LAST-MODIFIED:20251123T223251Z
UID:10129123-1821436200-1821438900@synergyhealthworks.com
SUMMARY:Matwork Core Class
DESCRIPTION:
URL:https://synergyhealthworks.com/event/matwork-core-class-12/2027-09-20/
LOCATION:Wagga Wagga | Mat Studio\, 221 Kincaid Street\, Wagga Wagga\, NSW\, 2650\, Australia
CATEGORIES:Matwork
END:VEVENT
END:VCALENDAR