BEGIN:VCALENDAR
VERSION:2.0
PRODID:-//Synergy Healthworks - ECPv6.15.20//NONSGML v1.0//EN
CALSCALE:GREGORIAN
METHOD:PUBLISH
X-ORIGINAL-URL:https://synergyhealthworks.com
X-WR-CALDESC:Events for Synergy Healthworks
REFRESH-INTERVAL;VALUE=DURATION:PT1H
X-Robots-Tag:noindex
X-PUBLISHED-TTL:PT1H
BEGIN:VTIMEZONE
TZID:Australia/Sydney
BEGIN:STANDARD
TZOFFSETFROM:+1100
TZOFFSETTO:+1000
TZNAME:AEST
DTSTART:20260404T160000
END:STANDARD
BEGIN:DAYLIGHT
TZOFFSETFROM:+1000
TZOFFSETTO:+1100
TZNAME:AEDT
DTSTART:20261003T160000
END:DAYLIGHT
BEGIN:STANDARD
TZOFFSETFROM:+1100
TZOFFSETTO:+1000
TZNAME:AEST
DTSTART:20270403T160000
END:STANDARD
BEGIN:DAYLIGHT
TZOFFSETFROM:+1000
TZOFFSETTO:+1100
TZNAME:AEDT
DTSTART:20271002T160000
END:DAYLIGHT
BEGIN:STANDARD
TZOFFSETFROM:+1100
TZOFFSETTO:+1000
TZNAME:AEST
DTSTART:20280401T160000
END:STANDARD
BEGIN:DAYLIGHT
TZOFFSETFROM:+1000
TZOFFSETTO:+1100
TZNAME:AEDT
DTSTART:20280930T160000
END:DAYLIGHT
END:VTIMEZONE
BEGIN:VEVENT
DTSTART;TZID=Australia/Sydney:20270706T123000
DTEND;TZID=Australia/Sydney:20270706T131500
DTSTAMP:20260423T171230
CREATED:20241204T010916Z
LAST-MODIFIED:20251123T223831Z
UID:10130102-1814877000-1814879700@synergyhealthworks.com
SUMMARY:Pregnancy Matwork Class
DESCRIPTION:
URL:https://synergyhealthworks.com/event/pregnancy-matwork-class-4/2027-07-06/
LOCATION:Wagga Wagga | Mat Studio\, 221 Kincaid Street\, Wagga Wagga\, NSW\, 2650\, Australia
CATEGORIES:Pregnancy Matwork
END:VEVENT
BEGIN:VEVENT
DTSTART;TZID=Australia/Sydney:20270707T123000
DTEND;TZID=Australia/Sydney:20270707T131500
DTSTAMP:20260423T171230
CREATED:20241204T014608Z
LAST-MODIFIED:20251123T221428Z
UID:10099366-1814963400-1814966100@synergyhealthworks.com
SUMMARY:Barre
DESCRIPTION:
URL:https://synergyhealthworks.com/event/barre-2/2027-07-07/
LOCATION:Wagga Wagga | Reformer Studio\, 221 Kincaid Street\, Wagga Wagga\, NSW\, 2650\, Australia
CATEGORIES:Barre
END:VEVENT
BEGIN:VEVENT
DTSTART;TZID=Australia/Sydney:20270707T140000
DTEND;TZID=Australia/Sydney:20270707T144500
DTSTAMP:20260423T171230
CREATED:20251123T222028Z
LAST-MODIFIED:20251123T222107Z
UID:10128268-1814968800-1814971500@synergyhealthworks.com
SUMMARY:Gentle Reformer
DESCRIPTION:
URL:https://synergyhealthworks.com/event/gentle-reformer-12/2027-07-07/
LOCATION:Wagga Wagga | Reformer Studio\, 221 Kincaid Street\, Wagga Wagga\, NSW\, 2650\, Australia
CATEGORIES:Clinical Reformer
END:VEVENT
BEGIN:VEVENT
DTSTART;TZID=Australia/Sydney:20270712T103000
DTEND;TZID=Australia/Sydney:20270712T111500
DTSTAMP:20260423T171230
CREATED:20241204T010434Z
LAST-MODIFIED:20251123T223251Z
UID:10129113-1815388200-1815390900@synergyhealthworks.com
SUMMARY:Matwork Core Class
DESCRIPTION:
URL:https://synergyhealthworks.com/event/matwork-core-class-12/2027-07-12/
LOCATION:Wagga Wagga | Mat Studio\, 221 Kincaid Street\, Wagga Wagga\, NSW\, 2650\, Australia
CATEGORIES:Matwork
END:VEVENT
BEGIN:VEVENT
DTSTART;TZID=Australia/Sydney:20270712T113000
DTEND;TZID=Australia/Sydney:20270712T121500
DTSTAMP:20260423T171230
CREATED:20251123T223427Z
LAST-MODIFIED:20251123T223427Z
UID:10129717-1815391800-1815394500@synergyhealthworks.com
SUMMARY:Mums and Bubs Core Class
DESCRIPTION:
URL:https://synergyhealthworks.com/event/mums-and-bubs-core-class-8/2027-07-12/
LOCATION:Wagga Wagga | Mat Studio\, 221 Kincaid Street\, Wagga Wagga\, NSW\, 2650\, Australia
CATEGORIES:Mums and Bubs
END:VEVENT
BEGIN:VEVENT
DTSTART;TZID=Australia/Sydney:20270713T123000
DTEND;TZID=Australia/Sydney:20270713T131500
DTSTAMP:20260423T171230
CREATED:20241204T010916Z
LAST-MODIFIED:20251123T223831Z
UID:10130103-1815481800-1815484500@synergyhealthworks.com
SUMMARY:Pregnancy Matwork Class
DESCRIPTION:
URL:https://synergyhealthworks.com/event/pregnancy-matwork-class-4/2027-07-13/
LOCATION:Wagga Wagga | Mat Studio\, 221 Kincaid Street\, Wagga Wagga\, NSW\, 2650\, Australia
CATEGORIES:Pregnancy Matwork
END:VEVENT
BEGIN:VEVENT
DTSTART;TZID=Australia/Sydney:20270714T123000
DTEND;TZID=Australia/Sydney:20270714T131500
DTSTAMP:20260423T171230
CREATED:20241204T014608Z
LAST-MODIFIED:20251123T221428Z
UID:10099367-1815568200-1815570900@synergyhealthworks.com
SUMMARY:Barre
DESCRIPTION:
URL:https://synergyhealthworks.com/event/barre-2/2027-07-14/
LOCATION:Wagga Wagga | Reformer Studio\, 221 Kincaid Street\, Wagga Wagga\, NSW\, 2650\, Australia
CATEGORIES:Barre
END:VEVENT
BEGIN:VEVENT
DTSTART;TZID=Australia/Sydney:20270714T140000
DTEND;TZID=Australia/Sydney:20270714T144500
DTSTAMP:20260423T171230
CREATED:20251123T222028Z
LAST-MODIFIED:20251123T222107Z
UID:10128269-1815573600-1815576300@synergyhealthworks.com
SUMMARY:Gentle Reformer
DESCRIPTION:
URL:https://synergyhealthworks.com/event/gentle-reformer-12/2027-07-14/
LOCATION:Wagga Wagga | Reformer Studio\, 221 Kincaid Street\, Wagga Wagga\, NSW\, 2650\, Australia
CATEGORIES:Clinical Reformer
END:VEVENT
BEGIN:VEVENT
DTSTART;TZID=Australia/Sydney:20270719T103000
DTEND;TZID=Australia/Sydney:20270719T111500
DTSTAMP:20260423T171230
CREATED:20241204T010434Z
LAST-MODIFIED:20251123T223251Z
UID:10129114-1815993000-1815995700@synergyhealthworks.com
SUMMARY:Matwork Core Class
DESCRIPTION:
URL:https://synergyhealthworks.com/event/matwork-core-class-12/2027-07-19/
LOCATION:Wagga Wagga | Mat Studio\, 221 Kincaid Street\, Wagga Wagga\, NSW\, 2650\, Australia
CATEGORIES:Matwork
END:VEVENT
BEGIN:VEVENT
DTSTART;TZID=Australia/Sydney:20270719T113000
DTEND;TZID=Australia/Sydney:20270719T121500
DTSTAMP:20260423T171230
CREATED:20251123T223427Z
LAST-MODIFIED:20251123T223427Z
UID:10129718-1815996600-1815999300@synergyhealthworks.com
SUMMARY:Mums and Bubs Core Class
DESCRIPTION:
URL:https://synergyhealthworks.com/event/mums-and-bubs-core-class-8/2027-07-19/
LOCATION:Wagga Wagga | Mat Studio\, 221 Kincaid Street\, Wagga Wagga\, NSW\, 2650\, Australia
CATEGORIES:Mums and Bubs
END:VEVENT
BEGIN:VEVENT
DTSTART;TZID=Australia/Sydney:20270720T123000
DTEND;TZID=Australia/Sydney:20270720T131500
DTSTAMP:20260423T171230
CREATED:20241204T010916Z
LAST-MODIFIED:20251123T223831Z
UID:10130104-1816086600-1816089300@synergyhealthworks.com
SUMMARY:Pregnancy Matwork Class
DESCRIPTION:
URL:https://synergyhealthworks.com/event/pregnancy-matwork-class-4/2027-07-20/
LOCATION:Wagga Wagga | Mat Studio\, 221 Kincaid Street\, Wagga Wagga\, NSW\, 2650\, Australia
CATEGORIES:Pregnancy Matwork
END:VEVENT
BEGIN:VEVENT
DTSTART;TZID=Australia/Sydney:20270721T123000
DTEND;TZID=Australia/Sydney:20270721T131500
DTSTAMP:20260423T171230
CREATED:20241204T014608Z
LAST-MODIFIED:20251123T221428Z
UID:10099368-1816173000-1816175700@synergyhealthworks.com
SUMMARY:Barre
DESCRIPTION:
URL:https://synergyhealthworks.com/event/barre-2/2027-07-21/
LOCATION:Wagga Wagga | Reformer Studio\, 221 Kincaid Street\, Wagga Wagga\, NSW\, 2650\, Australia
CATEGORIES:Barre
END:VEVENT
BEGIN:VEVENT
DTSTART;TZID=Australia/Sydney:20270721T140000
DTEND;TZID=Australia/Sydney:20270721T144500
DTSTAMP:20260423T171230
CREATED:20251123T222028Z
LAST-MODIFIED:20251123T222107Z
UID:10128270-1816178400-1816181100@synergyhealthworks.com
SUMMARY:Gentle Reformer
DESCRIPTION:
URL:https://synergyhealthworks.com/event/gentle-reformer-12/2027-07-21/
LOCATION:Wagga Wagga | Reformer Studio\, 221 Kincaid Street\, Wagga Wagga\, NSW\, 2650\, Australia
CATEGORIES:Clinical Reformer
END:VEVENT
BEGIN:VEVENT
DTSTART;TZID=Australia/Sydney:20270726T103000
DTEND;TZID=Australia/Sydney:20270726T111500
DTSTAMP:20260423T171230
CREATED:20241204T010434Z
LAST-MODIFIED:20251123T223251Z
UID:10129115-1816597800-1816600500@synergyhealthworks.com
SUMMARY:Matwork Core Class
DESCRIPTION:
URL:https://synergyhealthworks.com/event/matwork-core-class-12/2027-07-26/
LOCATION:Wagga Wagga | Mat Studio\, 221 Kincaid Street\, Wagga Wagga\, NSW\, 2650\, Australia
CATEGORIES:Matwork
END:VEVENT
BEGIN:VEVENT
DTSTART;TZID=Australia/Sydney:20270726T113000
DTEND;TZID=Australia/Sydney:20270726T121500
DTSTAMP:20260423T171230
CREATED:20251123T223427Z
LAST-MODIFIED:20251123T223427Z
UID:10129719-1816601400-1816604100@synergyhealthworks.com
SUMMARY:Mums and Bubs Core Class
DESCRIPTION:
URL:https://synergyhealthworks.com/event/mums-and-bubs-core-class-8/2027-07-26/
LOCATION:Wagga Wagga | Mat Studio\, 221 Kincaid Street\, Wagga Wagga\, NSW\, 2650\, Australia
CATEGORIES:Mums and Bubs
END:VEVENT
BEGIN:VEVENT
DTSTART;TZID=Australia/Sydney:20270727T123000
DTEND;TZID=Australia/Sydney:20270727T131500
DTSTAMP:20260423T171230
CREATED:20241204T010916Z
LAST-MODIFIED:20251123T223831Z
UID:10130105-1816691400-1816694100@synergyhealthworks.com
SUMMARY:Pregnancy Matwork Class
DESCRIPTION:
URL:https://synergyhealthworks.com/event/pregnancy-matwork-class-4/2027-07-27/
LOCATION:Wagga Wagga | Mat Studio\, 221 Kincaid Street\, Wagga Wagga\, NSW\, 2650\, Australia
CATEGORIES:Pregnancy Matwork
END:VEVENT
BEGIN:VEVENT
DTSTART;TZID=Australia/Sydney:20270728T123000
DTEND;TZID=Australia/Sydney:20270728T131500
DTSTAMP:20260423T171230
CREATED:20241204T014608Z
LAST-MODIFIED:20251123T221428Z
UID:10099369-1816777800-1816780500@synergyhealthworks.com
SUMMARY:Barre
DESCRIPTION:
URL:https://synergyhealthworks.com/event/barre-2/2027-07-28/
LOCATION:Wagga Wagga | Reformer Studio\, 221 Kincaid Street\, Wagga Wagga\, NSW\, 2650\, Australia
CATEGORIES:Barre
END:VEVENT
BEGIN:VEVENT
DTSTART;TZID=Australia/Sydney:20270728T140000
DTEND;TZID=Australia/Sydney:20270728T144500
DTSTAMP:20260423T171230
CREATED:20251123T222028Z
LAST-MODIFIED:20251123T222107Z
UID:10128271-1816783200-1816785900@synergyhealthworks.com
SUMMARY:Gentle Reformer
DESCRIPTION:
URL:https://synergyhealthworks.com/event/gentle-reformer-12/2027-07-28/
LOCATION:Wagga Wagga | Reformer Studio\, 221 Kincaid Street\, Wagga Wagga\, NSW\, 2650\, Australia
CATEGORIES:Clinical Reformer
END:VEVENT
BEGIN:VEVENT
DTSTART;TZID=Australia/Sydney:20270802T103000
DTEND;TZID=Australia/Sydney:20270802T111500
DTSTAMP:20260423T171230
CREATED:20241204T010434Z
LAST-MODIFIED:20251123T223251Z
UID:10129116-1817202600-1817205300@synergyhealthworks.com
SUMMARY:Matwork Core Class
DESCRIPTION:
URL:https://synergyhealthworks.com/event/matwork-core-class-12/2027-08-02/
LOCATION:Wagga Wagga | Mat Studio\, 221 Kincaid Street\, Wagga Wagga\, NSW\, 2650\, Australia
CATEGORIES:Matwork
END:VEVENT
BEGIN:VEVENT
DTSTART;TZID=Australia/Sydney:20270802T113000
DTEND;TZID=Australia/Sydney:20270802T121500
DTSTAMP:20260423T171230
CREATED:20251123T223427Z
LAST-MODIFIED:20251123T223427Z
UID:10129720-1817206200-1817208900@synergyhealthworks.com
SUMMARY:Mums and Bubs Core Class
DESCRIPTION:
URL:https://synergyhealthworks.com/event/mums-and-bubs-core-class-8/2027-08-02/
LOCATION:Wagga Wagga | Mat Studio\, 221 Kincaid Street\, Wagga Wagga\, NSW\, 2650\, Australia
CATEGORIES:Mums and Bubs
END:VEVENT
BEGIN:VEVENT
DTSTART;TZID=Australia/Sydney:20270803T123000
DTEND;TZID=Australia/Sydney:20270803T131500
DTSTAMP:20260423T171230
CREATED:20241204T010916Z
LAST-MODIFIED:20251123T223831Z
UID:10130106-1817296200-1817298900@synergyhealthworks.com
SUMMARY:Pregnancy Matwork Class
DESCRIPTION:
URL:https://synergyhealthworks.com/event/pregnancy-matwork-class-4/2027-08-03/
LOCATION:Wagga Wagga | Mat Studio\, 221 Kincaid Street\, Wagga Wagga\, NSW\, 2650\, Australia
CATEGORIES:Pregnancy Matwork
END:VEVENT
BEGIN:VEVENT
DTSTART;TZID=Australia/Sydney:20270804T123000
DTEND;TZID=Australia/Sydney:20270804T131500
DTSTAMP:20260423T171230
CREATED:20241204T014608Z
LAST-MODIFIED:20251123T221428Z
UID:10099370-1817382600-1817385300@synergyhealthworks.com
SUMMARY:Barre
DESCRIPTION:
URL:https://synergyhealthworks.com/event/barre-2/2027-08-04/
LOCATION:Wagga Wagga | Reformer Studio\, 221 Kincaid Street\, Wagga Wagga\, NSW\, 2650\, Australia
CATEGORIES:Barre
END:VEVENT
BEGIN:VEVENT
DTSTART;TZID=Australia/Sydney:20270804T140000
DTEND;TZID=Australia/Sydney:20270804T144500
DTSTAMP:20260423T171230
CREATED:20251123T222028Z
LAST-MODIFIED:20251123T222107Z
UID:10128272-1817388000-1817390700@synergyhealthworks.com
SUMMARY:Gentle Reformer
DESCRIPTION:
URL:https://synergyhealthworks.com/event/gentle-reformer-12/2027-08-04/
LOCATION:Wagga Wagga | Reformer Studio\, 221 Kincaid Street\, Wagga Wagga\, NSW\, 2650\, Australia
CATEGORIES:Clinical Reformer
END:VEVENT
BEGIN:VEVENT
DTSTART;TZID=Australia/Sydney:20270809T103000
DTEND;TZID=Australia/Sydney:20270809T111500
DTSTAMP:20260423T171230
CREATED:20241204T010434Z
LAST-MODIFIED:20251123T223251Z
UID:10129117-1817807400-1817810100@synergyhealthworks.com
SUMMARY:Matwork Core Class
DESCRIPTION:
URL:https://synergyhealthworks.com/event/matwork-core-class-12/2027-08-09/
LOCATION:Wagga Wagga | Mat Studio\, 221 Kincaid Street\, Wagga Wagga\, NSW\, 2650\, Australia
CATEGORIES:Matwork
END:VEVENT
BEGIN:VEVENT
DTSTART;TZID=Australia/Sydney:20270809T113000
DTEND;TZID=Australia/Sydney:20270809T121500
DTSTAMP:20260423T171230
CREATED:20251123T223427Z
LAST-MODIFIED:20251123T223427Z
UID:10129721-1817811000-1817813700@synergyhealthworks.com
SUMMARY:Mums and Bubs Core Class
DESCRIPTION:
URL:https://synergyhealthworks.com/event/mums-and-bubs-core-class-8/2027-08-09/
LOCATION:Wagga Wagga | Mat Studio\, 221 Kincaid Street\, Wagga Wagga\, NSW\, 2650\, Australia
CATEGORIES:Mums and Bubs
END:VEVENT
BEGIN:VEVENT
DTSTART;TZID=Australia/Sydney:20270810T123000
DTEND;TZID=Australia/Sydney:20270810T131500
DTSTAMP:20260423T171230
CREATED:20241204T010916Z
LAST-MODIFIED:20251123T223831Z
UID:10130107-1817901000-1817903700@synergyhealthworks.com
SUMMARY:Pregnancy Matwork Class
DESCRIPTION:
URL:https://synergyhealthworks.com/event/pregnancy-matwork-class-4/2027-08-10/
LOCATION:Wagga Wagga | Mat Studio\, 221 Kincaid Street\, Wagga Wagga\, NSW\, 2650\, Australia
CATEGORIES:Pregnancy Matwork
END:VEVENT
BEGIN:VEVENT
DTSTART;TZID=Australia/Sydney:20270811T123000
DTEND;TZID=Australia/Sydney:20270811T131500
DTSTAMP:20260423T171230
CREATED:20241204T014608Z
LAST-MODIFIED:20251123T221428Z
UID:10099371-1817987400-1817990100@synergyhealthworks.com
SUMMARY:Barre
DESCRIPTION:
URL:https://synergyhealthworks.com/event/barre-2/2027-08-11/
LOCATION:Wagga Wagga | Reformer Studio\, 221 Kincaid Street\, Wagga Wagga\, NSW\, 2650\, Australia
CATEGORIES:Barre
END:VEVENT
BEGIN:VEVENT
DTSTART;TZID=Australia/Sydney:20270811T140000
DTEND;TZID=Australia/Sydney:20270811T144500
DTSTAMP:20260423T171230
CREATED:20251123T222028Z
LAST-MODIFIED:20251123T222107Z
UID:10128273-1817992800-1817995500@synergyhealthworks.com
SUMMARY:Gentle Reformer
DESCRIPTION:
URL:https://synergyhealthworks.com/event/gentle-reformer-12/2027-08-11/
LOCATION:Wagga Wagga | Reformer Studio\, 221 Kincaid Street\, Wagga Wagga\, NSW\, 2650\, Australia
CATEGORIES:Clinical Reformer
END:VEVENT
BEGIN:VEVENT
DTSTART;TZID=Australia/Sydney:20270816T103000
DTEND;TZID=Australia/Sydney:20270816T111500
DTSTAMP:20260423T171230
CREATED:20241204T010434Z
LAST-MODIFIED:20251123T223251Z
UID:10129118-1818412200-1818414900@synergyhealthworks.com
SUMMARY:Matwork Core Class
DESCRIPTION:
URL:https://synergyhealthworks.com/event/matwork-core-class-12/2027-08-16/
LOCATION:Wagga Wagga | Mat Studio\, 221 Kincaid Street\, Wagga Wagga\, NSW\, 2650\, Australia
CATEGORIES:Matwork
END:VEVENT
BEGIN:VEVENT
DTSTART;TZID=Australia/Sydney:20270816T113000
DTEND;TZID=Australia/Sydney:20270816T121500
DTSTAMP:20260423T171230
CREATED:20251123T223427Z
LAST-MODIFIED:20251123T223427Z
UID:10129722-1818415800-1818418500@synergyhealthworks.com
SUMMARY:Mums and Bubs Core Class
DESCRIPTION:
URL:https://synergyhealthworks.com/event/mums-and-bubs-core-class-8/2027-08-16/
LOCATION:Wagga Wagga | Mat Studio\, 221 Kincaid Street\, Wagga Wagga\, NSW\, 2650\, Australia
CATEGORIES:Mums and Bubs
END:VEVENT
END:VCALENDAR