BEGIN:VCALENDAR
VERSION:2.0
PRODID:-//Synergy Healthworks - ECPv6.15.20//NONSGML v1.0//EN
CALSCALE:GREGORIAN
METHOD:PUBLISH
X-ORIGINAL-URL:https://synergyhealthworks.com
X-WR-CALDESC:Events for Synergy Healthworks
REFRESH-INTERVAL;VALUE=DURATION:PT1H
X-Robots-Tag:noindex
X-PUBLISHED-TTL:PT1H
BEGIN:VTIMEZONE
TZID:Australia/Sydney
BEGIN:STANDARD
TZOFFSETFROM:+1100
TZOFFSETTO:+1000
TZNAME:AEST
DTSTART:20260404T160000
END:STANDARD
BEGIN:DAYLIGHT
TZOFFSETFROM:+1000
TZOFFSETTO:+1100
TZNAME:AEDT
DTSTART:20261003T160000
END:DAYLIGHT
BEGIN:STANDARD
TZOFFSETFROM:+1100
TZOFFSETTO:+1000
TZNAME:AEST
DTSTART:20270403T160000
END:STANDARD
BEGIN:DAYLIGHT
TZOFFSETFROM:+1000
TZOFFSETTO:+1100
TZNAME:AEDT
DTSTART:20271002T160000
END:DAYLIGHT
BEGIN:STANDARD
TZOFFSETFROM:+1100
TZOFFSETTO:+1000
TZNAME:AEST
DTSTART:20280401T160000
END:STANDARD
BEGIN:DAYLIGHT
TZOFFSETFROM:+1000
TZOFFSETTO:+1100
TZNAME:AEDT
DTSTART:20280930T160000
END:DAYLIGHT
END:VTIMEZONE
BEGIN:VEVENT
DTSTART;TZID=Australia/Sydney:20270517T113000
DTEND;TZID=Australia/Sydney:20270517T121500
DTSTAMP:20260423T112808
CREATED:20251123T223427Z
LAST-MODIFIED:20251123T223427Z
UID:10129709-1810553400-1810556100@synergyhealthworks.com
SUMMARY:Mums and Bubs Core Class
DESCRIPTION:
URL:https://synergyhealthworks.com/event/mums-and-bubs-core-class-8/2027-05-17/
LOCATION:Wagga Wagga | Mat Studio\, 221 Kincaid Street\, Wagga Wagga\, NSW\, 2650\, Australia
CATEGORIES:Mums and Bubs
END:VEVENT
BEGIN:VEVENT
DTSTART;TZID=Australia/Sydney:20270518T123000
DTEND;TZID=Australia/Sydney:20270518T131500
DTSTAMP:20260423T112808
CREATED:20241204T010916Z
LAST-MODIFIED:20251123T223831Z
UID:10130095-1810643400-1810646100@synergyhealthworks.com
SUMMARY:Pregnancy Matwork Class
DESCRIPTION:
URL:https://synergyhealthworks.com/event/pregnancy-matwork-class-4/2027-05-18/
LOCATION:Wagga Wagga | Mat Studio\, 221 Kincaid Street\, Wagga Wagga\, NSW\, 2650\, Australia
CATEGORIES:Pregnancy Matwork
END:VEVENT
BEGIN:VEVENT
DTSTART;TZID=Australia/Sydney:20270519T123000
DTEND;TZID=Australia/Sydney:20270519T131500
DTSTAMP:20260423T112808
CREATED:20241204T014608Z
LAST-MODIFIED:20251123T221428Z
UID:10099359-1810729800-1810732500@synergyhealthworks.com
SUMMARY:Barre
DESCRIPTION:
URL:https://synergyhealthworks.com/event/barre-2/2027-05-19/
LOCATION:Wagga Wagga | Reformer Studio\, 221 Kincaid Street\, Wagga Wagga\, NSW\, 2650\, Australia
CATEGORIES:Barre
END:VEVENT
BEGIN:VEVENT
DTSTART;TZID=Australia/Sydney:20270519T140000
DTEND;TZID=Australia/Sydney:20270519T144500
DTSTAMP:20260423T112808
CREATED:20251123T222028Z
LAST-MODIFIED:20251123T222107Z
UID:10128261-1810735200-1810737900@synergyhealthworks.com
SUMMARY:Gentle Reformer
DESCRIPTION:
URL:https://synergyhealthworks.com/event/gentle-reformer-12/2027-05-19/
LOCATION:Wagga Wagga | Reformer Studio\, 221 Kincaid Street\, Wagga Wagga\, NSW\, 2650\, Australia
CATEGORIES:Clinical Reformer
END:VEVENT
BEGIN:VEVENT
DTSTART;TZID=Australia/Sydney:20270524T103000
DTEND;TZID=Australia/Sydney:20270524T111500
DTSTAMP:20260423T112808
CREATED:20241204T010434Z
LAST-MODIFIED:20251123T223251Z
UID:10129106-1811154600-1811157300@synergyhealthworks.com
SUMMARY:Matwork Core Class
DESCRIPTION:
URL:https://synergyhealthworks.com/event/matwork-core-class-12/2027-05-24/
LOCATION:Wagga Wagga | Mat Studio\, 221 Kincaid Street\, Wagga Wagga\, NSW\, 2650\, Australia
CATEGORIES:Matwork
END:VEVENT
BEGIN:VEVENT
DTSTART;TZID=Australia/Sydney:20270524T113000
DTEND;TZID=Australia/Sydney:20270524T121500
DTSTAMP:20260423T112808
CREATED:20251123T223427Z
LAST-MODIFIED:20251123T223427Z
UID:10129710-1811158200-1811160900@synergyhealthworks.com
SUMMARY:Mums and Bubs Core Class
DESCRIPTION:
URL:https://synergyhealthworks.com/event/mums-and-bubs-core-class-8/2027-05-24/
LOCATION:Wagga Wagga | Mat Studio\, 221 Kincaid Street\, Wagga Wagga\, NSW\, 2650\, Australia
CATEGORIES:Mums and Bubs
END:VEVENT
BEGIN:VEVENT
DTSTART;TZID=Australia/Sydney:20270525T123000
DTEND;TZID=Australia/Sydney:20270525T131500
DTSTAMP:20260423T112808
CREATED:20241204T010916Z
LAST-MODIFIED:20251123T223831Z
UID:10130096-1811248200-1811250900@synergyhealthworks.com
SUMMARY:Pregnancy Matwork Class
DESCRIPTION:
URL:https://synergyhealthworks.com/event/pregnancy-matwork-class-4/2027-05-25/
LOCATION:Wagga Wagga | Mat Studio\, 221 Kincaid Street\, Wagga Wagga\, NSW\, 2650\, Australia
CATEGORIES:Pregnancy Matwork
END:VEVENT
BEGIN:VEVENT
DTSTART;TZID=Australia/Sydney:20270526T123000
DTEND;TZID=Australia/Sydney:20270526T131500
DTSTAMP:20260423T112808
CREATED:20241204T014608Z
LAST-MODIFIED:20251123T221428Z
UID:10099360-1811334600-1811337300@synergyhealthworks.com
SUMMARY:Barre
DESCRIPTION:
URL:https://synergyhealthworks.com/event/barre-2/2027-05-26/
LOCATION:Wagga Wagga | Reformer Studio\, 221 Kincaid Street\, Wagga Wagga\, NSW\, 2650\, Australia
CATEGORIES:Barre
END:VEVENT
BEGIN:VEVENT
DTSTART;TZID=Australia/Sydney:20270526T140000
DTEND;TZID=Australia/Sydney:20270526T144500
DTSTAMP:20260423T112808
CREATED:20251123T222028Z
LAST-MODIFIED:20251123T222107Z
UID:10128262-1811340000-1811342700@synergyhealthworks.com
SUMMARY:Gentle Reformer
DESCRIPTION:
URL:https://synergyhealthworks.com/event/gentle-reformer-12/2027-05-26/
LOCATION:Wagga Wagga | Reformer Studio\, 221 Kincaid Street\, Wagga Wagga\, NSW\, 2650\, Australia
CATEGORIES:Clinical Reformer
END:VEVENT
BEGIN:VEVENT
DTSTART;TZID=Australia/Sydney:20270531T103000
DTEND;TZID=Australia/Sydney:20270531T111500
DTSTAMP:20260423T112808
CREATED:20241204T010434Z
LAST-MODIFIED:20251123T223251Z
UID:10129107-1811759400-1811762100@synergyhealthworks.com
SUMMARY:Matwork Core Class
DESCRIPTION:
URL:https://synergyhealthworks.com/event/matwork-core-class-12/2027-05-31/
LOCATION:Wagga Wagga | Mat Studio\, 221 Kincaid Street\, Wagga Wagga\, NSW\, 2650\, Australia
CATEGORIES:Matwork
END:VEVENT
BEGIN:VEVENT
DTSTART;TZID=Australia/Sydney:20270531T113000
DTEND;TZID=Australia/Sydney:20270531T121500
DTSTAMP:20260423T112808
CREATED:20251123T223427Z
LAST-MODIFIED:20251123T223427Z
UID:10129711-1811763000-1811765700@synergyhealthworks.com
SUMMARY:Mums and Bubs Core Class
DESCRIPTION:
URL:https://synergyhealthworks.com/event/mums-and-bubs-core-class-8/2027-05-31/
LOCATION:Wagga Wagga | Mat Studio\, 221 Kincaid Street\, Wagga Wagga\, NSW\, 2650\, Australia
CATEGORIES:Mums and Bubs
END:VEVENT
BEGIN:VEVENT
DTSTART;TZID=Australia/Sydney:20270601T123000
DTEND;TZID=Australia/Sydney:20270601T131500
DTSTAMP:20260423T112808
CREATED:20241204T010916Z
LAST-MODIFIED:20251123T223831Z
UID:10130097-1811853000-1811855700@synergyhealthworks.com
SUMMARY:Pregnancy Matwork Class
DESCRIPTION:
URL:https://synergyhealthworks.com/event/pregnancy-matwork-class-4/2027-06-01/
LOCATION:Wagga Wagga | Mat Studio\, 221 Kincaid Street\, Wagga Wagga\, NSW\, 2650\, Australia
CATEGORIES:Pregnancy Matwork
END:VEVENT
BEGIN:VEVENT
DTSTART;TZID=Australia/Sydney:20270602T123000
DTEND;TZID=Australia/Sydney:20270602T131500
DTSTAMP:20260423T112808
CREATED:20241204T014608Z
LAST-MODIFIED:20251123T221428Z
UID:10099361-1811939400-1811942100@synergyhealthworks.com
SUMMARY:Barre
DESCRIPTION:
URL:https://synergyhealthworks.com/event/barre-2/2027-06-02/
LOCATION:Wagga Wagga | Reformer Studio\, 221 Kincaid Street\, Wagga Wagga\, NSW\, 2650\, Australia
CATEGORIES:Barre
END:VEVENT
BEGIN:VEVENT
DTSTART;TZID=Australia/Sydney:20270602T140000
DTEND;TZID=Australia/Sydney:20270602T144500
DTSTAMP:20260423T112808
CREATED:20251123T222028Z
LAST-MODIFIED:20251123T222107Z
UID:10128263-1811944800-1811947500@synergyhealthworks.com
SUMMARY:Gentle Reformer
DESCRIPTION:
URL:https://synergyhealthworks.com/event/gentle-reformer-12/2027-06-02/
LOCATION:Wagga Wagga | Reformer Studio\, 221 Kincaid Street\, Wagga Wagga\, NSW\, 2650\, Australia
CATEGORIES:Clinical Reformer
END:VEVENT
BEGIN:VEVENT
DTSTART;TZID=Australia/Sydney:20270607T103000
DTEND;TZID=Australia/Sydney:20270607T111500
DTSTAMP:20260423T112808
CREATED:20241204T010434Z
LAST-MODIFIED:20251123T223251Z
UID:10129108-1812364200-1812366900@synergyhealthworks.com
SUMMARY:Matwork Core Class
DESCRIPTION:
URL:https://synergyhealthworks.com/event/matwork-core-class-12/2027-06-07/
LOCATION:Wagga Wagga | Mat Studio\, 221 Kincaid Street\, Wagga Wagga\, NSW\, 2650\, Australia
CATEGORIES:Matwork
END:VEVENT
BEGIN:VEVENT
DTSTART;TZID=Australia/Sydney:20270607T113000
DTEND;TZID=Australia/Sydney:20270607T121500
DTSTAMP:20260423T112808
CREATED:20251123T223427Z
LAST-MODIFIED:20251123T223427Z
UID:10129712-1812367800-1812370500@synergyhealthworks.com
SUMMARY:Mums and Bubs Core Class
DESCRIPTION:
URL:https://synergyhealthworks.com/event/mums-and-bubs-core-class-8/2027-06-07/
LOCATION:Wagga Wagga | Mat Studio\, 221 Kincaid Street\, Wagga Wagga\, NSW\, 2650\, Australia
CATEGORIES:Mums and Bubs
END:VEVENT
BEGIN:VEVENT
DTSTART;TZID=Australia/Sydney:20270608T123000
DTEND;TZID=Australia/Sydney:20270608T131500
DTSTAMP:20260423T112808
CREATED:20241204T010916Z
LAST-MODIFIED:20251123T223831Z
UID:10130098-1812457800-1812460500@synergyhealthworks.com
SUMMARY:Pregnancy Matwork Class
DESCRIPTION:
URL:https://synergyhealthworks.com/event/pregnancy-matwork-class-4/2027-06-08/
LOCATION:Wagga Wagga | Mat Studio\, 221 Kincaid Street\, Wagga Wagga\, NSW\, 2650\, Australia
CATEGORIES:Pregnancy Matwork
END:VEVENT
BEGIN:VEVENT
DTSTART;TZID=Australia/Sydney:20270609T123000
DTEND;TZID=Australia/Sydney:20270609T131500
DTSTAMP:20260423T112808
CREATED:20241204T014608Z
LAST-MODIFIED:20251123T221428Z
UID:10099362-1812544200-1812546900@synergyhealthworks.com
SUMMARY:Barre
DESCRIPTION:
URL:https://synergyhealthworks.com/event/barre-2/2027-06-09/
LOCATION:Wagga Wagga | Reformer Studio\, 221 Kincaid Street\, Wagga Wagga\, NSW\, 2650\, Australia
CATEGORIES:Barre
END:VEVENT
BEGIN:VEVENT
DTSTART;TZID=Australia/Sydney:20270609T140000
DTEND;TZID=Australia/Sydney:20270609T144500
DTSTAMP:20260423T112808
CREATED:20251123T222028Z
LAST-MODIFIED:20251123T222107Z
UID:10128264-1812549600-1812552300@synergyhealthworks.com
SUMMARY:Gentle Reformer
DESCRIPTION:
URL:https://synergyhealthworks.com/event/gentle-reformer-12/2027-06-09/
LOCATION:Wagga Wagga | Reformer Studio\, 221 Kincaid Street\, Wagga Wagga\, NSW\, 2650\, Australia
CATEGORIES:Clinical Reformer
END:VEVENT
BEGIN:VEVENT
DTSTART;TZID=Australia/Sydney:20270614T103000
DTEND;TZID=Australia/Sydney:20270614T111500
DTSTAMP:20260423T112808
CREATED:20241204T010434Z
LAST-MODIFIED:20251123T223251Z
UID:10129109-1812969000-1812971700@synergyhealthworks.com
SUMMARY:Matwork Core Class
DESCRIPTION:
URL:https://synergyhealthworks.com/event/matwork-core-class-12/2027-06-14/
LOCATION:Wagga Wagga | Mat Studio\, 221 Kincaid Street\, Wagga Wagga\, NSW\, 2650\, Australia
CATEGORIES:Matwork
END:VEVENT
BEGIN:VEVENT
DTSTART;TZID=Australia/Sydney:20270614T113000
DTEND;TZID=Australia/Sydney:20270614T121500
DTSTAMP:20260423T112808
CREATED:20251123T223427Z
LAST-MODIFIED:20251123T223427Z
UID:10129713-1812972600-1812975300@synergyhealthworks.com
SUMMARY:Mums and Bubs Core Class
DESCRIPTION:
URL:https://synergyhealthworks.com/event/mums-and-bubs-core-class-8/2027-06-14/
LOCATION:Wagga Wagga | Mat Studio\, 221 Kincaid Street\, Wagga Wagga\, NSW\, 2650\, Australia
CATEGORIES:Mums and Bubs
END:VEVENT
BEGIN:VEVENT
DTSTART;TZID=Australia/Sydney:20270615T123000
DTEND;TZID=Australia/Sydney:20270615T131500
DTSTAMP:20260423T112808
CREATED:20241204T010916Z
LAST-MODIFIED:20251123T223831Z
UID:10130099-1813062600-1813065300@synergyhealthworks.com
SUMMARY:Pregnancy Matwork Class
DESCRIPTION:
URL:https://synergyhealthworks.com/event/pregnancy-matwork-class-4/2027-06-15/
LOCATION:Wagga Wagga | Mat Studio\, 221 Kincaid Street\, Wagga Wagga\, NSW\, 2650\, Australia
CATEGORIES:Pregnancy Matwork
END:VEVENT
BEGIN:VEVENT
DTSTART;TZID=Australia/Sydney:20270616T123000
DTEND;TZID=Australia/Sydney:20270616T131500
DTSTAMP:20260423T112808
CREATED:20241204T014608Z
LAST-MODIFIED:20251123T221428Z
UID:10099363-1813149000-1813151700@synergyhealthworks.com
SUMMARY:Barre
DESCRIPTION:
URL:https://synergyhealthworks.com/event/barre-2/2027-06-16/
LOCATION:Wagga Wagga | Reformer Studio\, 221 Kincaid Street\, Wagga Wagga\, NSW\, 2650\, Australia
CATEGORIES:Barre
END:VEVENT
BEGIN:VEVENT
DTSTART;TZID=Australia/Sydney:20270616T140000
DTEND;TZID=Australia/Sydney:20270616T144500
DTSTAMP:20260423T112808
CREATED:20251123T222028Z
LAST-MODIFIED:20251123T222107Z
UID:10128265-1813154400-1813157100@synergyhealthworks.com
SUMMARY:Gentle Reformer
DESCRIPTION:
URL:https://synergyhealthworks.com/event/gentle-reformer-12/2027-06-16/
LOCATION:Wagga Wagga | Reformer Studio\, 221 Kincaid Street\, Wagga Wagga\, NSW\, 2650\, Australia
CATEGORIES:Clinical Reformer
END:VEVENT
BEGIN:VEVENT
DTSTART;TZID=Australia/Sydney:20270621T103000
DTEND;TZID=Australia/Sydney:20270621T111500
DTSTAMP:20260423T112808
CREATED:20241204T010434Z
LAST-MODIFIED:20251123T223251Z
UID:10129110-1813573800-1813576500@synergyhealthworks.com
SUMMARY:Matwork Core Class
DESCRIPTION:
URL:https://synergyhealthworks.com/event/matwork-core-class-12/2027-06-21/
LOCATION:Wagga Wagga | Mat Studio\, 221 Kincaid Street\, Wagga Wagga\, NSW\, 2650\, Australia
CATEGORIES:Matwork
END:VEVENT
BEGIN:VEVENT
DTSTART;TZID=Australia/Sydney:20270621T113000
DTEND;TZID=Australia/Sydney:20270621T121500
DTSTAMP:20260423T112808
CREATED:20251123T223427Z
LAST-MODIFIED:20251123T223427Z
UID:10129714-1813577400-1813580100@synergyhealthworks.com
SUMMARY:Mums and Bubs Core Class
DESCRIPTION:
URL:https://synergyhealthworks.com/event/mums-and-bubs-core-class-8/2027-06-21/
LOCATION:Wagga Wagga | Mat Studio\, 221 Kincaid Street\, Wagga Wagga\, NSW\, 2650\, Australia
CATEGORIES:Mums and Bubs
END:VEVENT
BEGIN:VEVENT
DTSTART;TZID=Australia/Sydney:20270622T123000
DTEND;TZID=Australia/Sydney:20270622T131500
DTSTAMP:20260423T112808
CREATED:20241204T010916Z
LAST-MODIFIED:20251123T223831Z
UID:10130100-1813667400-1813670100@synergyhealthworks.com
SUMMARY:Pregnancy Matwork Class
DESCRIPTION:
URL:https://synergyhealthworks.com/event/pregnancy-matwork-class-4/2027-06-22/
LOCATION:Wagga Wagga | Mat Studio\, 221 Kincaid Street\, Wagga Wagga\, NSW\, 2650\, Australia
CATEGORIES:Pregnancy Matwork
END:VEVENT
BEGIN:VEVENT
DTSTART;TZID=Australia/Sydney:20270623T123000
DTEND;TZID=Australia/Sydney:20270623T131500
DTSTAMP:20260423T112808
CREATED:20241204T014608Z
LAST-MODIFIED:20251123T221428Z
UID:10099364-1813753800-1813756500@synergyhealthworks.com
SUMMARY:Barre
DESCRIPTION:
URL:https://synergyhealthworks.com/event/barre-2/2027-06-23/
LOCATION:Wagga Wagga | Reformer Studio\, 221 Kincaid Street\, Wagga Wagga\, NSW\, 2650\, Australia
CATEGORIES:Barre
END:VEVENT
BEGIN:VEVENT
DTSTART;TZID=Australia/Sydney:20270623T140000
DTEND;TZID=Australia/Sydney:20270623T144500
DTSTAMP:20260423T112808
CREATED:20251123T222028Z
LAST-MODIFIED:20251123T222107Z
UID:10128266-1813759200-1813761900@synergyhealthworks.com
SUMMARY:Gentle Reformer
DESCRIPTION:
URL:https://synergyhealthworks.com/event/gentle-reformer-12/2027-06-23/
LOCATION:Wagga Wagga | Reformer Studio\, 221 Kincaid Street\, Wagga Wagga\, NSW\, 2650\, Australia
CATEGORIES:Clinical Reformer
END:VEVENT
BEGIN:VEVENT
DTSTART;TZID=Australia/Sydney:20270628T103000
DTEND;TZID=Australia/Sydney:20270628T111500
DTSTAMP:20260423T112808
CREATED:20241204T010434Z
LAST-MODIFIED:20251123T223251Z
UID:10129111-1814178600-1814181300@synergyhealthworks.com
SUMMARY:Matwork Core Class
DESCRIPTION:
URL:https://synergyhealthworks.com/event/matwork-core-class-12/2027-06-28/
LOCATION:Wagga Wagga | Mat Studio\, 221 Kincaid Street\, Wagga Wagga\, NSW\, 2650\, Australia
CATEGORIES:Matwork
END:VEVENT
END:VCALENDAR