BEGIN:VCALENDAR
VERSION:2.0
PRODID:-//Synergy Healthworks - ECPv6.15.20//NONSGML v1.0//EN
CALSCALE:GREGORIAN
METHOD:PUBLISH
X-ORIGINAL-URL:https://synergyhealthworks.com
X-WR-CALDESC:Events for Synergy Healthworks
REFRESH-INTERVAL;VALUE=DURATION:PT1H
X-Robots-Tag:noindex
X-PUBLISHED-TTL:PT1H
BEGIN:VTIMEZONE
TZID:Australia/Sydney
BEGIN:STANDARD
TZOFFSETFROM:+1100
TZOFFSETTO:+1000
TZNAME:AEST
DTSTART:20260404T160000
END:STANDARD
BEGIN:DAYLIGHT
TZOFFSETFROM:+1000
TZOFFSETTO:+1100
TZNAME:AEDT
DTSTART:20261003T160000
END:DAYLIGHT
BEGIN:STANDARD
TZOFFSETFROM:+1100
TZOFFSETTO:+1000
TZNAME:AEST
DTSTART:20270403T160000
END:STANDARD
BEGIN:DAYLIGHT
TZOFFSETFROM:+1000
TZOFFSETTO:+1100
TZNAME:AEDT
DTSTART:20271002T160000
END:DAYLIGHT
BEGIN:STANDARD
TZOFFSETFROM:+1100
TZOFFSETTO:+1000
TZNAME:AEST
DTSTART:20280401T160000
END:STANDARD
BEGIN:DAYLIGHT
TZOFFSETFROM:+1000
TZOFFSETTO:+1100
TZNAME:AEDT
DTSTART:20280930T160000
END:DAYLIGHT
END:VTIMEZONE
BEGIN:VEVENT
DTSTART;TZID=Australia/Sydney:20270329T103000
DTEND;TZID=Australia/Sydney:20270329T111500
DTSTAMP:20260423T060643
CREATED:20241204T010434Z
LAST-MODIFIED:20251123T223251Z
UID:10129098-1806316200-1806318900@synergyhealthworks.com
SUMMARY:Matwork Core Class
DESCRIPTION:
URL:https://synergyhealthworks.com/event/matwork-core-class-12/2027-03-29/
LOCATION:Wagga Wagga | Mat Studio\, 221 Kincaid Street\, Wagga Wagga\, NSW\, 2650\, Australia
CATEGORIES:Matwork
END:VEVENT
BEGIN:VEVENT
DTSTART;TZID=Australia/Sydney:20270329T113000
DTEND;TZID=Australia/Sydney:20270329T121500
DTSTAMP:20260423T060643
CREATED:20251123T223427Z
LAST-MODIFIED:20251123T223427Z
UID:10129702-1806319800-1806322500@synergyhealthworks.com
SUMMARY:Mums and Bubs Core Class
DESCRIPTION:
URL:https://synergyhealthworks.com/event/mums-and-bubs-core-class-8/2027-03-29/
LOCATION:Wagga Wagga | Mat Studio\, 221 Kincaid Street\, Wagga Wagga\, NSW\, 2650\, Australia
CATEGORIES:Mums and Bubs
END:VEVENT
BEGIN:VEVENT
DTSTART;TZID=Australia/Sydney:20270330T123000
DTEND;TZID=Australia/Sydney:20270330T131500
DTSTAMP:20260423T060643
CREATED:20241204T010916Z
LAST-MODIFIED:20251123T223831Z
UID:10130088-1806409800-1806412500@synergyhealthworks.com
SUMMARY:Pregnancy Matwork Class
DESCRIPTION:
URL:https://synergyhealthworks.com/event/pregnancy-matwork-class-4/2027-03-30/
LOCATION:Wagga Wagga | Mat Studio\, 221 Kincaid Street\, Wagga Wagga\, NSW\, 2650\, Australia
CATEGORIES:Pregnancy Matwork
END:VEVENT
BEGIN:VEVENT
DTSTART;TZID=Australia/Sydney:20270331T123000
DTEND;TZID=Australia/Sydney:20270331T131500
DTSTAMP:20260423T060643
CREATED:20241204T014608Z
LAST-MODIFIED:20251123T221428Z
UID:10099352-1806496200-1806498900@synergyhealthworks.com
SUMMARY:Barre
DESCRIPTION:
URL:https://synergyhealthworks.com/event/barre-2/2027-03-31/
LOCATION:Wagga Wagga | Reformer Studio\, 221 Kincaid Street\, Wagga Wagga\, NSW\, 2650\, Australia
CATEGORIES:Barre
END:VEVENT
BEGIN:VEVENT
DTSTART;TZID=Australia/Sydney:20270331T140000
DTEND;TZID=Australia/Sydney:20270331T144500
DTSTAMP:20260423T060643
CREATED:20251123T222028Z
LAST-MODIFIED:20251123T222107Z
UID:10128254-1806501600-1806504300@synergyhealthworks.com
SUMMARY:Gentle Reformer
DESCRIPTION:
URL:https://synergyhealthworks.com/event/gentle-reformer-12/2027-03-31/
LOCATION:Wagga Wagga | Reformer Studio\, 221 Kincaid Street\, Wagga Wagga\, NSW\, 2650\, Australia
CATEGORIES:Clinical Reformer
END:VEVENT
BEGIN:VEVENT
DTSTART;TZID=Australia/Sydney:20270405T103000
DTEND;TZID=Australia/Sydney:20270405T111500
DTSTAMP:20260423T060643
CREATED:20241204T010434Z
LAST-MODIFIED:20251123T223251Z
UID:10129099-1806921000-1806923700@synergyhealthworks.com
SUMMARY:Matwork Core Class
DESCRIPTION:
URL:https://synergyhealthworks.com/event/matwork-core-class-12/2027-04-05/
LOCATION:Wagga Wagga | Mat Studio\, 221 Kincaid Street\, Wagga Wagga\, NSW\, 2650\, Australia
CATEGORIES:Matwork
END:VEVENT
BEGIN:VEVENT
DTSTART;TZID=Australia/Sydney:20270405T113000
DTEND;TZID=Australia/Sydney:20270405T121500
DTSTAMP:20260423T060643
CREATED:20251123T223427Z
LAST-MODIFIED:20251123T223427Z
UID:10129703-1806924600-1806927300@synergyhealthworks.com
SUMMARY:Mums and Bubs Core Class
DESCRIPTION:
URL:https://synergyhealthworks.com/event/mums-and-bubs-core-class-8/2027-04-05/
LOCATION:Wagga Wagga | Mat Studio\, 221 Kincaid Street\, Wagga Wagga\, NSW\, 2650\, Australia
CATEGORIES:Mums and Bubs
END:VEVENT
BEGIN:VEVENT
DTSTART;TZID=Australia/Sydney:20270406T123000
DTEND;TZID=Australia/Sydney:20270406T131500
DTSTAMP:20260423T060643
CREATED:20241204T010916Z
LAST-MODIFIED:20251123T223831Z
UID:10130089-1807014600-1807017300@synergyhealthworks.com
SUMMARY:Pregnancy Matwork Class
DESCRIPTION:
URL:https://synergyhealthworks.com/event/pregnancy-matwork-class-4/2027-04-06/
LOCATION:Wagga Wagga | Mat Studio\, 221 Kincaid Street\, Wagga Wagga\, NSW\, 2650\, Australia
CATEGORIES:Pregnancy Matwork
END:VEVENT
BEGIN:VEVENT
DTSTART;TZID=Australia/Sydney:20270407T123000
DTEND;TZID=Australia/Sydney:20270407T131500
DTSTAMP:20260423T060643
CREATED:20241204T014608Z
LAST-MODIFIED:20251123T221428Z
UID:10099353-1807101000-1807103700@synergyhealthworks.com
SUMMARY:Barre
DESCRIPTION:
URL:https://synergyhealthworks.com/event/barre-2/2027-04-07/
LOCATION:Wagga Wagga | Reformer Studio\, 221 Kincaid Street\, Wagga Wagga\, NSW\, 2650\, Australia
CATEGORIES:Barre
END:VEVENT
BEGIN:VEVENT
DTSTART;TZID=Australia/Sydney:20270407T140000
DTEND;TZID=Australia/Sydney:20270407T144500
DTSTAMP:20260423T060643
CREATED:20251123T222028Z
LAST-MODIFIED:20251123T222107Z
UID:10128255-1807106400-1807109100@synergyhealthworks.com
SUMMARY:Gentle Reformer
DESCRIPTION:
URL:https://synergyhealthworks.com/event/gentle-reformer-12/2027-04-07/
LOCATION:Wagga Wagga | Reformer Studio\, 221 Kincaid Street\, Wagga Wagga\, NSW\, 2650\, Australia
CATEGORIES:Clinical Reformer
END:VEVENT
BEGIN:VEVENT
DTSTART;TZID=Australia/Sydney:20270412T103000
DTEND;TZID=Australia/Sydney:20270412T111500
DTSTAMP:20260423T060643
CREATED:20241204T010434Z
LAST-MODIFIED:20251123T223251Z
UID:10129100-1807525800-1807528500@synergyhealthworks.com
SUMMARY:Matwork Core Class
DESCRIPTION:
URL:https://synergyhealthworks.com/event/matwork-core-class-12/2027-04-12/
LOCATION:Wagga Wagga | Mat Studio\, 221 Kincaid Street\, Wagga Wagga\, NSW\, 2650\, Australia
CATEGORIES:Matwork
END:VEVENT
BEGIN:VEVENT
DTSTART;TZID=Australia/Sydney:20270412T113000
DTEND;TZID=Australia/Sydney:20270412T121500
DTSTAMP:20260423T060643
CREATED:20251123T223427Z
LAST-MODIFIED:20251123T223427Z
UID:10129704-1807529400-1807532100@synergyhealthworks.com
SUMMARY:Mums and Bubs Core Class
DESCRIPTION:
URL:https://synergyhealthworks.com/event/mums-and-bubs-core-class-8/2027-04-12/
LOCATION:Wagga Wagga | Mat Studio\, 221 Kincaid Street\, Wagga Wagga\, NSW\, 2650\, Australia
CATEGORIES:Mums and Bubs
END:VEVENT
BEGIN:VEVENT
DTSTART;TZID=Australia/Sydney:20270413T123000
DTEND;TZID=Australia/Sydney:20270413T131500
DTSTAMP:20260423T060643
CREATED:20241204T010916Z
LAST-MODIFIED:20251123T223831Z
UID:10130090-1807619400-1807622100@synergyhealthworks.com
SUMMARY:Pregnancy Matwork Class
DESCRIPTION:
URL:https://synergyhealthworks.com/event/pregnancy-matwork-class-4/2027-04-13/
LOCATION:Wagga Wagga | Mat Studio\, 221 Kincaid Street\, Wagga Wagga\, NSW\, 2650\, Australia
CATEGORIES:Pregnancy Matwork
END:VEVENT
BEGIN:VEVENT
DTSTART;TZID=Australia/Sydney:20270414T123000
DTEND;TZID=Australia/Sydney:20270414T131500
DTSTAMP:20260423T060643
CREATED:20241204T014608Z
LAST-MODIFIED:20251123T221428Z
UID:10099354-1807705800-1807708500@synergyhealthworks.com
SUMMARY:Barre
DESCRIPTION:
URL:https://synergyhealthworks.com/event/barre-2/2027-04-14/
LOCATION:Wagga Wagga | Reformer Studio\, 221 Kincaid Street\, Wagga Wagga\, NSW\, 2650\, Australia
CATEGORIES:Barre
END:VEVENT
BEGIN:VEVENT
DTSTART;TZID=Australia/Sydney:20270414T140000
DTEND;TZID=Australia/Sydney:20270414T144500
DTSTAMP:20260423T060643
CREATED:20251123T222028Z
LAST-MODIFIED:20251123T222107Z
UID:10128256-1807711200-1807713900@synergyhealthworks.com
SUMMARY:Gentle Reformer
DESCRIPTION:
URL:https://synergyhealthworks.com/event/gentle-reformer-12/2027-04-14/
LOCATION:Wagga Wagga | Reformer Studio\, 221 Kincaid Street\, Wagga Wagga\, NSW\, 2650\, Australia
CATEGORIES:Clinical Reformer
END:VEVENT
BEGIN:VEVENT
DTSTART;TZID=Australia/Sydney:20270419T103000
DTEND;TZID=Australia/Sydney:20270419T111500
DTSTAMP:20260423T060643
CREATED:20241204T010434Z
LAST-MODIFIED:20251123T223251Z
UID:10129101-1808130600-1808133300@synergyhealthworks.com
SUMMARY:Matwork Core Class
DESCRIPTION:
URL:https://synergyhealthworks.com/event/matwork-core-class-12/2027-04-19/
LOCATION:Wagga Wagga | Mat Studio\, 221 Kincaid Street\, Wagga Wagga\, NSW\, 2650\, Australia
CATEGORIES:Matwork
END:VEVENT
BEGIN:VEVENT
DTSTART;TZID=Australia/Sydney:20270419T113000
DTEND;TZID=Australia/Sydney:20270419T121500
DTSTAMP:20260423T060643
CREATED:20251123T223427Z
LAST-MODIFIED:20251123T223427Z
UID:10129705-1808134200-1808136900@synergyhealthworks.com
SUMMARY:Mums and Bubs Core Class
DESCRIPTION:
URL:https://synergyhealthworks.com/event/mums-and-bubs-core-class-8/2027-04-19/
LOCATION:Wagga Wagga | Mat Studio\, 221 Kincaid Street\, Wagga Wagga\, NSW\, 2650\, Australia
CATEGORIES:Mums and Bubs
END:VEVENT
BEGIN:VEVENT
DTSTART;TZID=Australia/Sydney:20270420T123000
DTEND;TZID=Australia/Sydney:20270420T131500
DTSTAMP:20260423T060643
CREATED:20241204T010916Z
LAST-MODIFIED:20251123T223831Z
UID:10130091-1808224200-1808226900@synergyhealthworks.com
SUMMARY:Pregnancy Matwork Class
DESCRIPTION:
URL:https://synergyhealthworks.com/event/pregnancy-matwork-class-4/2027-04-20/
LOCATION:Wagga Wagga | Mat Studio\, 221 Kincaid Street\, Wagga Wagga\, NSW\, 2650\, Australia
CATEGORIES:Pregnancy Matwork
END:VEVENT
BEGIN:VEVENT
DTSTART;TZID=Australia/Sydney:20270421T123000
DTEND;TZID=Australia/Sydney:20270421T131500
DTSTAMP:20260423T060643
CREATED:20241204T014608Z
LAST-MODIFIED:20251123T221428Z
UID:10099355-1808310600-1808313300@synergyhealthworks.com
SUMMARY:Barre
DESCRIPTION:
URL:https://synergyhealthworks.com/event/barre-2/2027-04-21/
LOCATION:Wagga Wagga | Reformer Studio\, 221 Kincaid Street\, Wagga Wagga\, NSW\, 2650\, Australia
CATEGORIES:Barre
END:VEVENT
BEGIN:VEVENT
DTSTART;TZID=Australia/Sydney:20270421T140000
DTEND;TZID=Australia/Sydney:20270421T144500
DTSTAMP:20260423T060643
CREATED:20251123T222028Z
LAST-MODIFIED:20251123T222107Z
UID:10128257-1808316000-1808318700@synergyhealthworks.com
SUMMARY:Gentle Reformer
DESCRIPTION:
URL:https://synergyhealthworks.com/event/gentle-reformer-12/2027-04-21/
LOCATION:Wagga Wagga | Reformer Studio\, 221 Kincaid Street\, Wagga Wagga\, NSW\, 2650\, Australia
CATEGORIES:Clinical Reformer
END:VEVENT
BEGIN:VEVENT
DTSTART;TZID=Australia/Sydney:20270426T103000
DTEND;TZID=Australia/Sydney:20270426T111500
DTSTAMP:20260423T060643
CREATED:20241204T010434Z
LAST-MODIFIED:20251123T223251Z
UID:10129102-1808735400-1808738100@synergyhealthworks.com
SUMMARY:Matwork Core Class
DESCRIPTION:
URL:https://synergyhealthworks.com/event/matwork-core-class-12/2027-04-26/
LOCATION:Wagga Wagga | Mat Studio\, 221 Kincaid Street\, Wagga Wagga\, NSW\, 2650\, Australia
CATEGORIES:Matwork
END:VEVENT
BEGIN:VEVENT
DTSTART;TZID=Australia/Sydney:20270426T113000
DTEND;TZID=Australia/Sydney:20270426T121500
DTSTAMP:20260423T060643
CREATED:20251123T223427Z
LAST-MODIFIED:20251123T223427Z
UID:10129706-1808739000-1808741700@synergyhealthworks.com
SUMMARY:Mums and Bubs Core Class
DESCRIPTION:
URL:https://synergyhealthworks.com/event/mums-and-bubs-core-class-8/2027-04-26/
LOCATION:Wagga Wagga | Mat Studio\, 221 Kincaid Street\, Wagga Wagga\, NSW\, 2650\, Australia
CATEGORIES:Mums and Bubs
END:VEVENT
BEGIN:VEVENT
DTSTART;TZID=Australia/Sydney:20270427T123000
DTEND;TZID=Australia/Sydney:20270427T131500
DTSTAMP:20260423T060643
CREATED:20241204T010916Z
LAST-MODIFIED:20251123T223831Z
UID:10130092-1808829000-1808831700@synergyhealthworks.com
SUMMARY:Pregnancy Matwork Class
DESCRIPTION:
URL:https://synergyhealthworks.com/event/pregnancy-matwork-class-4/2027-04-27/
LOCATION:Wagga Wagga | Mat Studio\, 221 Kincaid Street\, Wagga Wagga\, NSW\, 2650\, Australia
CATEGORIES:Pregnancy Matwork
END:VEVENT
BEGIN:VEVENT
DTSTART;TZID=Australia/Sydney:20270428T123000
DTEND;TZID=Australia/Sydney:20270428T131500
DTSTAMP:20260423T060643
CREATED:20241204T014608Z
LAST-MODIFIED:20251123T221428Z
UID:10099356-1808915400-1808918100@synergyhealthworks.com
SUMMARY:Barre
DESCRIPTION:
URL:https://synergyhealthworks.com/event/barre-2/2027-04-28/
LOCATION:Wagga Wagga | Reformer Studio\, 221 Kincaid Street\, Wagga Wagga\, NSW\, 2650\, Australia
CATEGORIES:Barre
END:VEVENT
BEGIN:VEVENT
DTSTART;TZID=Australia/Sydney:20270428T140000
DTEND;TZID=Australia/Sydney:20270428T144500
DTSTAMP:20260423T060643
CREATED:20251123T222028Z
LAST-MODIFIED:20251123T222107Z
UID:10128258-1808920800-1808923500@synergyhealthworks.com
SUMMARY:Gentle Reformer
DESCRIPTION:
URL:https://synergyhealthworks.com/event/gentle-reformer-12/2027-04-28/
LOCATION:Wagga Wagga | Reformer Studio\, 221 Kincaid Street\, Wagga Wagga\, NSW\, 2650\, Australia
CATEGORIES:Clinical Reformer
END:VEVENT
BEGIN:VEVENT
DTSTART;TZID=Australia/Sydney:20270503T103000
DTEND;TZID=Australia/Sydney:20270503T111500
DTSTAMP:20260423T060643
CREATED:20241204T010434Z
LAST-MODIFIED:20251123T223251Z
UID:10129103-1809340200-1809342900@synergyhealthworks.com
SUMMARY:Matwork Core Class
DESCRIPTION:
URL:https://synergyhealthworks.com/event/matwork-core-class-12/2027-05-03/
LOCATION:Wagga Wagga | Mat Studio\, 221 Kincaid Street\, Wagga Wagga\, NSW\, 2650\, Australia
CATEGORIES:Matwork
END:VEVENT
BEGIN:VEVENT
DTSTART;TZID=Australia/Sydney:20270503T113000
DTEND;TZID=Australia/Sydney:20270503T121500
DTSTAMP:20260423T060643
CREATED:20251123T223427Z
LAST-MODIFIED:20251123T223427Z
UID:10129707-1809343800-1809346500@synergyhealthworks.com
SUMMARY:Mums and Bubs Core Class
DESCRIPTION:
URL:https://synergyhealthworks.com/event/mums-and-bubs-core-class-8/2027-05-03/
LOCATION:Wagga Wagga | Mat Studio\, 221 Kincaid Street\, Wagga Wagga\, NSW\, 2650\, Australia
CATEGORIES:Mums and Bubs
END:VEVENT
BEGIN:VEVENT
DTSTART;TZID=Australia/Sydney:20270504T123000
DTEND;TZID=Australia/Sydney:20270504T131500
DTSTAMP:20260423T060643
CREATED:20241204T010916Z
LAST-MODIFIED:20251123T223831Z
UID:10130093-1809433800-1809436500@synergyhealthworks.com
SUMMARY:Pregnancy Matwork Class
DESCRIPTION:
URL:https://synergyhealthworks.com/event/pregnancy-matwork-class-4/2027-05-04/
LOCATION:Wagga Wagga | Mat Studio\, 221 Kincaid Street\, Wagga Wagga\, NSW\, 2650\, Australia
CATEGORIES:Pregnancy Matwork
END:VEVENT
BEGIN:VEVENT
DTSTART;TZID=Australia/Sydney:20270505T123000
DTEND;TZID=Australia/Sydney:20270505T131500
DTSTAMP:20260423T060643
CREATED:20241204T014608Z
LAST-MODIFIED:20251123T221428Z
UID:10099357-1809520200-1809522900@synergyhealthworks.com
SUMMARY:Barre
DESCRIPTION:
URL:https://synergyhealthworks.com/event/barre-2/2027-05-05/
LOCATION:Wagga Wagga | Reformer Studio\, 221 Kincaid Street\, Wagga Wagga\, NSW\, 2650\, Australia
CATEGORIES:Barre
END:VEVENT
BEGIN:VEVENT
DTSTART;TZID=Australia/Sydney:20270505T140000
DTEND;TZID=Australia/Sydney:20270505T144500
DTSTAMP:20260423T060643
CREATED:20251123T222028Z
LAST-MODIFIED:20251123T222107Z
UID:10128259-1809525600-1809528300@synergyhealthworks.com
SUMMARY:Gentle Reformer
DESCRIPTION:
URL:https://synergyhealthworks.com/event/gentle-reformer-12/2027-05-05/
LOCATION:Wagga Wagga | Reformer Studio\, 221 Kincaid Street\, Wagga Wagga\, NSW\, 2650\, Australia
CATEGORIES:Clinical Reformer
END:VEVENT
END:VCALENDAR