BEGIN:VCALENDAR
VERSION:2.0
PRODID:-//Synergy Healthworks - ECPv6.15.20//NONSGML v1.0//EN
CALSCALE:GREGORIAN
METHOD:PUBLISH
X-WR-CALNAME:Synergy Healthworks
X-ORIGINAL-URL:https://synergyhealthworks.com
X-WR-CALDESC:Events for Synergy Healthworks
REFRESH-INTERVAL;VALUE=DURATION:PT1H
X-Robots-Tag:noindex
X-PUBLISHED-TTL:PT1H
BEGIN:VTIMEZONE
TZID:Australia/Sydney
BEGIN:STANDARD
TZOFFSETFROM:+1100
TZOFFSETTO:+1000
TZNAME:AEST
DTSTART:20260404T160000
END:STANDARD
BEGIN:DAYLIGHT
TZOFFSETFROM:+1000
TZOFFSETTO:+1100
TZNAME:AEDT
DTSTART:20261003T160000
END:DAYLIGHT
BEGIN:STANDARD
TZOFFSETFROM:+1100
TZOFFSETTO:+1000
TZNAME:AEST
DTSTART:20270403T160000
END:STANDARD
BEGIN:DAYLIGHT
TZOFFSETFROM:+1000
TZOFFSETTO:+1100
TZNAME:AEDT
DTSTART:20271002T160000
END:DAYLIGHT
BEGIN:STANDARD
TZOFFSETFROM:+1100
TZOFFSETTO:+1000
TZNAME:AEST
DTSTART:20280401T160000
END:STANDARD
BEGIN:DAYLIGHT
TZOFFSETFROM:+1000
TZOFFSETTO:+1100
TZNAME:AEDT
DTSTART:20280930T160000
END:DAYLIGHT
END:VTIMEZONE
BEGIN:VEVENT
DTSTART;TZID=Australia/Sydney:20270203T140000
DTEND;TZID=Australia/Sydney:20270203T144500
DTSTAMP:20260423T003545
CREATED:20251123T222028Z
LAST-MODIFIED:20251123T222107Z
UID:10128246-1801663200-1801665900@synergyhealthworks.com
SUMMARY:Gentle Reformer
DESCRIPTION:
URL:https://synergyhealthworks.com/event/gentle-reformer-12/2027-02-03/
LOCATION:Wagga Wagga | Reformer Studio\, 221 Kincaid Street\, Wagga Wagga\, NSW\, 2650\, Australia
CATEGORIES:Clinical Reformer
END:VEVENT
BEGIN:VEVENT
DTSTART;TZID=Australia/Sydney:20270208T103000
DTEND;TZID=Australia/Sydney:20270208T111500
DTSTAMP:20260423T003545
CREATED:20241204T010434Z
LAST-MODIFIED:20251123T223251Z
UID:10129091-1802082600-1802085300@synergyhealthworks.com
SUMMARY:Matwork Core Class
DESCRIPTION:
URL:https://synergyhealthworks.com/event/matwork-core-class-12/2027-02-08/
LOCATION:Wagga Wagga | Mat Studio\, 221 Kincaid Street\, Wagga Wagga\, NSW\, 2650\, Australia
CATEGORIES:Matwork
END:VEVENT
BEGIN:VEVENT
DTSTART;TZID=Australia/Sydney:20270208T113000
DTEND;TZID=Australia/Sydney:20270208T121500
DTSTAMP:20260423T003545
CREATED:20251123T223427Z
LAST-MODIFIED:20251123T223427Z
UID:10129695-1802086200-1802088900@synergyhealthworks.com
SUMMARY:Mums and Bubs Core Class
DESCRIPTION:
URL:https://synergyhealthworks.com/event/mums-and-bubs-core-class-8/2027-02-08/
LOCATION:Wagga Wagga | Mat Studio\, 221 Kincaid Street\, Wagga Wagga\, NSW\, 2650\, Australia
CATEGORIES:Mums and Bubs
END:VEVENT
BEGIN:VEVENT
DTSTART;TZID=Australia/Sydney:20270209T123000
DTEND;TZID=Australia/Sydney:20270209T131500
DTSTAMP:20260423T003545
CREATED:20241204T010916Z
LAST-MODIFIED:20251123T223831Z
UID:10130081-1802176200-1802178900@synergyhealthworks.com
SUMMARY:Pregnancy Matwork Class
DESCRIPTION:
URL:https://synergyhealthworks.com/event/pregnancy-matwork-class-4/2027-02-09/
LOCATION:Wagga Wagga | Mat Studio\, 221 Kincaid Street\, Wagga Wagga\, NSW\, 2650\, Australia
CATEGORIES:Pregnancy Matwork
END:VEVENT
BEGIN:VEVENT
DTSTART;TZID=Australia/Sydney:20270210T123000
DTEND;TZID=Australia/Sydney:20270210T131500
DTSTAMP:20260423T003545
CREATED:20241204T014608Z
LAST-MODIFIED:20251123T221428Z
UID:10099345-1802262600-1802265300@synergyhealthworks.com
SUMMARY:Barre
DESCRIPTION:
URL:https://synergyhealthworks.com/event/barre-2/2027-02-10/
LOCATION:Wagga Wagga | Reformer Studio\, 221 Kincaid Street\, Wagga Wagga\, NSW\, 2650\, Australia
CATEGORIES:Barre
END:VEVENT
BEGIN:VEVENT
DTSTART;TZID=Australia/Sydney:20270210T140000
DTEND;TZID=Australia/Sydney:20270210T144500
DTSTAMP:20260423T003545
CREATED:20251123T222028Z
LAST-MODIFIED:20251123T222107Z
UID:10128247-1802268000-1802270700@synergyhealthworks.com
SUMMARY:Gentle Reformer
DESCRIPTION:
URL:https://synergyhealthworks.com/event/gentle-reformer-12/2027-02-10/
LOCATION:Wagga Wagga | Reformer Studio\, 221 Kincaid Street\, Wagga Wagga\, NSW\, 2650\, Australia
CATEGORIES:Clinical Reformer
END:VEVENT
BEGIN:VEVENT
DTSTART;TZID=Australia/Sydney:20270215T103000
DTEND;TZID=Australia/Sydney:20270215T111500
DTSTAMP:20260423T003545
CREATED:20241204T010434Z
LAST-MODIFIED:20251123T223251Z
UID:10129092-1802687400-1802690100@synergyhealthworks.com
SUMMARY:Matwork Core Class
DESCRIPTION:
URL:https://synergyhealthworks.com/event/matwork-core-class-12/2027-02-15/
LOCATION:Wagga Wagga | Mat Studio\, 221 Kincaid Street\, Wagga Wagga\, NSW\, 2650\, Australia
CATEGORIES:Matwork
END:VEVENT
BEGIN:VEVENT
DTSTART;TZID=Australia/Sydney:20270215T113000
DTEND;TZID=Australia/Sydney:20270215T121500
DTSTAMP:20260423T003545
CREATED:20251123T223427Z
LAST-MODIFIED:20251123T223427Z
UID:10129696-1802691000-1802693700@synergyhealthworks.com
SUMMARY:Mums and Bubs Core Class
DESCRIPTION:
URL:https://synergyhealthworks.com/event/mums-and-bubs-core-class-8/2027-02-15/
LOCATION:Wagga Wagga | Mat Studio\, 221 Kincaid Street\, Wagga Wagga\, NSW\, 2650\, Australia
CATEGORIES:Mums and Bubs
END:VEVENT
BEGIN:VEVENT
DTSTART;TZID=Australia/Sydney:20270216T123000
DTEND;TZID=Australia/Sydney:20270216T131500
DTSTAMP:20260423T003545
CREATED:20241204T010916Z
LAST-MODIFIED:20251123T223831Z
UID:10130082-1802781000-1802783700@synergyhealthworks.com
SUMMARY:Pregnancy Matwork Class
DESCRIPTION:
URL:https://synergyhealthworks.com/event/pregnancy-matwork-class-4/2027-02-16/
LOCATION:Wagga Wagga | Mat Studio\, 221 Kincaid Street\, Wagga Wagga\, NSW\, 2650\, Australia
CATEGORIES:Pregnancy Matwork
END:VEVENT
BEGIN:VEVENT
DTSTART;TZID=Australia/Sydney:20270217T123000
DTEND;TZID=Australia/Sydney:20270217T131500
DTSTAMP:20260423T003545
CREATED:20241204T014608Z
LAST-MODIFIED:20251123T221428Z
UID:10099346-1802867400-1802870100@synergyhealthworks.com
SUMMARY:Barre
DESCRIPTION:
URL:https://synergyhealthworks.com/event/barre-2/2027-02-17/
LOCATION:Wagga Wagga | Reformer Studio\, 221 Kincaid Street\, Wagga Wagga\, NSW\, 2650\, Australia
CATEGORIES:Barre
END:VEVENT
BEGIN:VEVENT
DTSTART;TZID=Australia/Sydney:20270217T140000
DTEND;TZID=Australia/Sydney:20270217T144500
DTSTAMP:20260423T003545
CREATED:20251123T222028Z
LAST-MODIFIED:20251123T222107Z
UID:10128248-1802872800-1802875500@synergyhealthworks.com
SUMMARY:Gentle Reformer
DESCRIPTION:
URL:https://synergyhealthworks.com/event/gentle-reformer-12/2027-02-17/
LOCATION:Wagga Wagga | Reformer Studio\, 221 Kincaid Street\, Wagga Wagga\, NSW\, 2650\, Australia
CATEGORIES:Clinical Reformer
END:VEVENT
BEGIN:VEVENT
DTSTART;TZID=Australia/Sydney:20270222T103000
DTEND;TZID=Australia/Sydney:20270222T111500
DTSTAMP:20260423T003545
CREATED:20241204T010434Z
LAST-MODIFIED:20251123T223251Z
UID:10129093-1803292200-1803294900@synergyhealthworks.com
SUMMARY:Matwork Core Class
DESCRIPTION:
URL:https://synergyhealthworks.com/event/matwork-core-class-12/2027-02-22/
LOCATION:Wagga Wagga | Mat Studio\, 221 Kincaid Street\, Wagga Wagga\, NSW\, 2650\, Australia
CATEGORIES:Matwork
END:VEVENT
BEGIN:VEVENT
DTSTART;TZID=Australia/Sydney:20270222T113000
DTEND;TZID=Australia/Sydney:20270222T121500
DTSTAMP:20260423T003545
CREATED:20251123T223427Z
LAST-MODIFIED:20251123T223427Z
UID:10129697-1803295800-1803298500@synergyhealthworks.com
SUMMARY:Mums and Bubs Core Class
DESCRIPTION:
URL:https://synergyhealthworks.com/event/mums-and-bubs-core-class-8/2027-02-22/
LOCATION:Wagga Wagga | Mat Studio\, 221 Kincaid Street\, Wagga Wagga\, NSW\, 2650\, Australia
CATEGORIES:Mums and Bubs
END:VEVENT
BEGIN:VEVENT
DTSTART;TZID=Australia/Sydney:20270223T123000
DTEND;TZID=Australia/Sydney:20270223T131500
DTSTAMP:20260423T003545
CREATED:20241204T010916Z
LAST-MODIFIED:20251123T223831Z
UID:10130083-1803385800-1803388500@synergyhealthworks.com
SUMMARY:Pregnancy Matwork Class
DESCRIPTION:
URL:https://synergyhealthworks.com/event/pregnancy-matwork-class-4/2027-02-23/
LOCATION:Wagga Wagga | Mat Studio\, 221 Kincaid Street\, Wagga Wagga\, NSW\, 2650\, Australia
CATEGORIES:Pregnancy Matwork
END:VEVENT
BEGIN:VEVENT
DTSTART;TZID=Australia/Sydney:20270224T123000
DTEND;TZID=Australia/Sydney:20270224T131500
DTSTAMP:20260423T003545
CREATED:20241204T014608Z
LAST-MODIFIED:20251123T221428Z
UID:10099347-1803472200-1803474900@synergyhealthworks.com
SUMMARY:Barre
DESCRIPTION:
URL:https://synergyhealthworks.com/event/barre-2/2027-02-24/
LOCATION:Wagga Wagga | Reformer Studio\, 221 Kincaid Street\, Wagga Wagga\, NSW\, 2650\, Australia
CATEGORIES:Barre
END:VEVENT
BEGIN:VEVENT
DTSTART;TZID=Australia/Sydney:20270224T140000
DTEND;TZID=Australia/Sydney:20270224T144500
DTSTAMP:20260423T003545
CREATED:20251123T222028Z
LAST-MODIFIED:20251123T222107Z
UID:10128249-1803477600-1803480300@synergyhealthworks.com
SUMMARY:Gentle Reformer
DESCRIPTION:
URL:https://synergyhealthworks.com/event/gentle-reformer-12/2027-02-24/
LOCATION:Wagga Wagga | Reformer Studio\, 221 Kincaid Street\, Wagga Wagga\, NSW\, 2650\, Australia
CATEGORIES:Clinical Reformer
END:VEVENT
BEGIN:VEVENT
DTSTART;TZID=Australia/Sydney:20270301T103000
DTEND;TZID=Australia/Sydney:20270301T111500
DTSTAMP:20260423T003545
CREATED:20241204T010434Z
LAST-MODIFIED:20251123T223251Z
UID:10129094-1803897000-1803899700@synergyhealthworks.com
SUMMARY:Matwork Core Class
DESCRIPTION:
URL:https://synergyhealthworks.com/event/matwork-core-class-12/2027-03-01/
LOCATION:Wagga Wagga | Mat Studio\, 221 Kincaid Street\, Wagga Wagga\, NSW\, 2650\, Australia
CATEGORIES:Matwork
END:VEVENT
BEGIN:VEVENT
DTSTART;TZID=Australia/Sydney:20270301T113000
DTEND;TZID=Australia/Sydney:20270301T121500
DTSTAMP:20260423T003545
CREATED:20251123T223427Z
LAST-MODIFIED:20251123T223427Z
UID:10129698-1803900600-1803903300@synergyhealthworks.com
SUMMARY:Mums and Bubs Core Class
DESCRIPTION:
URL:https://synergyhealthworks.com/event/mums-and-bubs-core-class-8/2027-03-01/
LOCATION:Wagga Wagga | Mat Studio\, 221 Kincaid Street\, Wagga Wagga\, NSW\, 2650\, Australia
CATEGORIES:Mums and Bubs
END:VEVENT
BEGIN:VEVENT
DTSTART;TZID=Australia/Sydney:20270302T123000
DTEND;TZID=Australia/Sydney:20270302T131500
DTSTAMP:20260423T003545
CREATED:20241204T010916Z
LAST-MODIFIED:20251123T223831Z
UID:10130084-1803990600-1803993300@synergyhealthworks.com
SUMMARY:Pregnancy Matwork Class
DESCRIPTION:
URL:https://synergyhealthworks.com/event/pregnancy-matwork-class-4/2027-03-02/
LOCATION:Wagga Wagga | Mat Studio\, 221 Kincaid Street\, Wagga Wagga\, NSW\, 2650\, Australia
CATEGORIES:Pregnancy Matwork
END:VEVENT
BEGIN:VEVENT
DTSTART;TZID=Australia/Sydney:20270303T123000
DTEND;TZID=Australia/Sydney:20270303T131500
DTSTAMP:20260423T003545
CREATED:20241204T014608Z
LAST-MODIFIED:20251123T221428Z
UID:10099348-1804077000-1804079700@synergyhealthworks.com
SUMMARY:Barre
DESCRIPTION:
URL:https://synergyhealthworks.com/event/barre-2/2027-03-03/
LOCATION:Wagga Wagga | Reformer Studio\, 221 Kincaid Street\, Wagga Wagga\, NSW\, 2650\, Australia
CATEGORIES:Barre
END:VEVENT
BEGIN:VEVENT
DTSTART;TZID=Australia/Sydney:20270303T140000
DTEND;TZID=Australia/Sydney:20270303T144500
DTSTAMP:20260423T003545
CREATED:20251123T222028Z
LAST-MODIFIED:20251123T222107Z
UID:10128250-1804082400-1804085100@synergyhealthworks.com
SUMMARY:Gentle Reformer
DESCRIPTION:
URL:https://synergyhealthworks.com/event/gentle-reformer-12/2027-03-03/
LOCATION:Wagga Wagga | Reformer Studio\, 221 Kincaid Street\, Wagga Wagga\, NSW\, 2650\, Australia
CATEGORIES:Clinical Reformer
END:VEVENT
BEGIN:VEVENT
DTSTART;TZID=Australia/Sydney:20270308T103000
DTEND;TZID=Australia/Sydney:20270308T111500
DTSTAMP:20260423T003545
CREATED:20241204T010434Z
LAST-MODIFIED:20251123T223251Z
UID:10129095-1804501800-1804504500@synergyhealthworks.com
SUMMARY:Matwork Core Class
DESCRIPTION:
URL:https://synergyhealthworks.com/event/matwork-core-class-12/2027-03-08/
LOCATION:Wagga Wagga | Mat Studio\, 221 Kincaid Street\, Wagga Wagga\, NSW\, 2650\, Australia
CATEGORIES:Matwork
END:VEVENT
BEGIN:VEVENT
DTSTART;TZID=Australia/Sydney:20270308T113000
DTEND;TZID=Australia/Sydney:20270308T121500
DTSTAMP:20260423T003545
CREATED:20251123T223427Z
LAST-MODIFIED:20251123T223427Z
UID:10129699-1804505400-1804508100@synergyhealthworks.com
SUMMARY:Mums and Bubs Core Class
DESCRIPTION:
URL:https://synergyhealthworks.com/event/mums-and-bubs-core-class-8/2027-03-08/
LOCATION:Wagga Wagga | Mat Studio\, 221 Kincaid Street\, Wagga Wagga\, NSW\, 2650\, Australia
CATEGORIES:Mums and Bubs
END:VEVENT
BEGIN:VEVENT
DTSTART;TZID=Australia/Sydney:20270309T123000
DTEND;TZID=Australia/Sydney:20270309T131500
DTSTAMP:20260423T003545
CREATED:20241204T010916Z
LAST-MODIFIED:20251123T223831Z
UID:10130085-1804595400-1804598100@synergyhealthworks.com
SUMMARY:Pregnancy Matwork Class
DESCRIPTION:
URL:https://synergyhealthworks.com/event/pregnancy-matwork-class-4/2027-03-09/
LOCATION:Wagga Wagga | Mat Studio\, 221 Kincaid Street\, Wagga Wagga\, NSW\, 2650\, Australia
CATEGORIES:Pregnancy Matwork
END:VEVENT
BEGIN:VEVENT
DTSTART;TZID=Australia/Sydney:20270310T123000
DTEND;TZID=Australia/Sydney:20270310T131500
DTSTAMP:20260423T003545
CREATED:20241204T014608Z
LAST-MODIFIED:20251123T221428Z
UID:10099349-1804681800-1804684500@synergyhealthworks.com
SUMMARY:Barre
DESCRIPTION:
URL:https://synergyhealthworks.com/event/barre-2/2027-03-10/
LOCATION:Wagga Wagga | Reformer Studio\, 221 Kincaid Street\, Wagga Wagga\, NSW\, 2650\, Australia
CATEGORIES:Barre
END:VEVENT
BEGIN:VEVENT
DTSTART;TZID=Australia/Sydney:20270310T140000
DTEND;TZID=Australia/Sydney:20270310T144500
DTSTAMP:20260423T003545
CREATED:20251123T222028Z
LAST-MODIFIED:20251123T222107Z
UID:10128251-1804687200-1804689900@synergyhealthworks.com
SUMMARY:Gentle Reformer
DESCRIPTION:
URL:https://synergyhealthworks.com/event/gentle-reformer-12/2027-03-10/
LOCATION:Wagga Wagga | Reformer Studio\, 221 Kincaid Street\, Wagga Wagga\, NSW\, 2650\, Australia
CATEGORIES:Clinical Reformer
END:VEVENT
BEGIN:VEVENT
DTSTART;TZID=Australia/Sydney:20270315T103000
DTEND;TZID=Australia/Sydney:20270315T111500
DTSTAMP:20260423T003545
CREATED:20241204T010434Z
LAST-MODIFIED:20251123T223251Z
UID:10129096-1805106600-1805109300@synergyhealthworks.com
SUMMARY:Matwork Core Class
DESCRIPTION:
URL:https://synergyhealthworks.com/event/matwork-core-class-12/2027-03-15/
LOCATION:Wagga Wagga | Mat Studio\, 221 Kincaid Street\, Wagga Wagga\, NSW\, 2650\, Australia
CATEGORIES:Matwork
END:VEVENT
BEGIN:VEVENT
DTSTART;TZID=Australia/Sydney:20270315T113000
DTEND;TZID=Australia/Sydney:20270315T121500
DTSTAMP:20260423T003545
CREATED:20251123T223427Z
LAST-MODIFIED:20251123T223427Z
UID:10129700-1805110200-1805112900@synergyhealthworks.com
SUMMARY:Mums and Bubs Core Class
DESCRIPTION:
URL:https://synergyhealthworks.com/event/mums-and-bubs-core-class-8/2027-03-15/
LOCATION:Wagga Wagga | Mat Studio\, 221 Kincaid Street\, Wagga Wagga\, NSW\, 2650\, Australia
CATEGORIES:Mums and Bubs
END:VEVENT
BEGIN:VEVENT
DTSTART;TZID=Australia/Sydney:20270316T123000
DTEND;TZID=Australia/Sydney:20270316T131500
DTSTAMP:20260423T003545
CREATED:20241204T010916Z
LAST-MODIFIED:20251123T223831Z
UID:10130086-1805200200-1805202900@synergyhealthworks.com
SUMMARY:Pregnancy Matwork Class
DESCRIPTION:
URL:https://synergyhealthworks.com/event/pregnancy-matwork-class-4/2027-03-16/
LOCATION:Wagga Wagga | Mat Studio\, 221 Kincaid Street\, Wagga Wagga\, NSW\, 2650\, Australia
CATEGORIES:Pregnancy Matwork
END:VEVENT
BEGIN:VEVENT
DTSTART;TZID=Australia/Sydney:20270317T123000
DTEND;TZID=Australia/Sydney:20270317T131500
DTSTAMP:20260423T003545
CREATED:20241204T014608Z
LAST-MODIFIED:20251123T221428Z
UID:10099350-1805286600-1805289300@synergyhealthworks.com
SUMMARY:Barre
DESCRIPTION:
URL:https://synergyhealthworks.com/event/barre-2/2027-03-17/
LOCATION:Wagga Wagga | Reformer Studio\, 221 Kincaid Street\, Wagga Wagga\, NSW\, 2650\, Australia
CATEGORIES:Barre
END:VEVENT
END:VCALENDAR