BEGIN:VCALENDAR
VERSION:2.0
PRODID:-//Synergy Healthworks - ECPv6.15.20//NONSGML v1.0//EN
CALSCALE:GREGORIAN
METHOD:PUBLISH
X-WR-CALNAME:Synergy Healthworks
X-ORIGINAL-URL:https://synergyhealthworks.com
X-WR-CALDESC:Events for Synergy Healthworks
REFRESH-INTERVAL;VALUE=DURATION:PT1H
X-Robots-Tag:noindex
X-PUBLISHED-TTL:PT1H
BEGIN:VTIMEZONE
TZID:Australia/Sydney
BEGIN:STANDARD
TZOFFSETFROM:+1100
TZOFFSETTO:+1000
TZNAME:AEST
DTSTART:20250405T160000
END:STANDARD
BEGIN:DAYLIGHT
TZOFFSETFROM:+1000
TZOFFSETTO:+1100
TZNAME:AEDT
DTSTART:20251004T160000
END:DAYLIGHT
BEGIN:STANDARD
TZOFFSETFROM:+1100
TZOFFSETTO:+1000
TZNAME:AEST
DTSTART:20260404T160000
END:STANDARD
BEGIN:DAYLIGHT
TZOFFSETFROM:+1000
TZOFFSETTO:+1100
TZNAME:AEDT
DTSTART:20261003T160000
END:DAYLIGHT
BEGIN:STANDARD
TZOFFSETFROM:+1100
TZOFFSETTO:+1000
TZNAME:AEST
DTSTART:20270403T160000
END:STANDARD
BEGIN:DAYLIGHT
TZOFFSETFROM:+1000
TZOFFSETTO:+1100
TZNAME:AEDT
DTSTART:20271002T160000
END:DAYLIGHT
BEGIN:STANDARD
TZOFFSETFROM:+1100
TZOFFSETTO:+1000
TZNAME:AEST
DTSTART:20280401T160000
END:STANDARD
BEGIN:DAYLIGHT
TZOFFSETFROM:+1000
TZOFFSETTO:+1100
TZNAME:AEDT
DTSTART:20280930T160000
END:DAYLIGHT
END:VTIMEZONE
BEGIN:VEVENT
DTSTART;TZID=Australia/Sydney:20261216T123000
DTEND;TZID=Australia/Sydney:20261216T131500
DTSTAMP:20260422T190704
CREATED:20241204T014608Z
LAST-MODIFIED:20251123T221428Z
UID:10099337-1797424200-1797426900@synergyhealthworks.com
SUMMARY:Barre
DESCRIPTION:
URL:https://synergyhealthworks.com/event/barre-2/2026-12-16/
LOCATION:Wagga Wagga | Reformer Studio\, 221 Kincaid Street\, Wagga Wagga\, NSW\, 2650\, Australia
CATEGORIES:Barre
END:VEVENT
BEGIN:VEVENT
DTSTART;TZID=Australia/Sydney:20261216T140000
DTEND;TZID=Australia/Sydney:20261216T144500
DTSTAMP:20260422T190704
CREATED:20251123T222028Z
LAST-MODIFIED:20251123T222107Z
UID:10128239-1797429600-1797432300@synergyhealthworks.com
SUMMARY:Gentle Reformer
DESCRIPTION:
URL:https://synergyhealthworks.com/event/gentle-reformer-12/2026-12-16/
LOCATION:Wagga Wagga | Reformer Studio\, 221 Kincaid Street\, Wagga Wagga\, NSW\, 2650\, Australia
CATEGORIES:Clinical Reformer
END:VEVENT
BEGIN:VEVENT
DTSTART;TZID=Australia/Sydney:20261221T103000
DTEND;TZID=Australia/Sydney:20261221T111500
DTSTAMP:20260422T190704
CREATED:20241204T010434Z
LAST-MODIFIED:20251123T223251Z
UID:10129084-1797849000-1797851700@synergyhealthworks.com
SUMMARY:Matwork Core Class
DESCRIPTION:
URL:https://synergyhealthworks.com/event/matwork-core-class-12/2026-12-21/
LOCATION:Wagga Wagga | Mat Studio\, 221 Kincaid Street\, Wagga Wagga\, NSW\, 2650\, Australia
CATEGORIES:Matwork
END:VEVENT
BEGIN:VEVENT
DTSTART;TZID=Australia/Sydney:20261221T113000
DTEND;TZID=Australia/Sydney:20261221T121500
DTSTAMP:20260422T190704
CREATED:20251123T223427Z
LAST-MODIFIED:20251123T223427Z
UID:10129688-1797852600-1797855300@synergyhealthworks.com
SUMMARY:Mums and Bubs Core Class
DESCRIPTION:
URL:https://synergyhealthworks.com/event/mums-and-bubs-core-class-8/2026-12-21/
LOCATION:Wagga Wagga | Mat Studio\, 221 Kincaid Street\, Wagga Wagga\, NSW\, 2650\, Australia
CATEGORIES:Mums and Bubs
END:VEVENT
BEGIN:VEVENT
DTSTART;TZID=Australia/Sydney:20261222T123000
DTEND;TZID=Australia/Sydney:20261222T131500
DTSTAMP:20260422T190704
CREATED:20241204T010916Z
LAST-MODIFIED:20251123T223831Z
UID:10130074-1797942600-1797945300@synergyhealthworks.com
SUMMARY:Pregnancy Matwork Class
DESCRIPTION:
URL:https://synergyhealthworks.com/event/pregnancy-matwork-class-4/2026-12-22/
LOCATION:Wagga Wagga | Mat Studio\, 221 Kincaid Street\, Wagga Wagga\, NSW\, 2650\, Australia
CATEGORIES:Pregnancy Matwork
END:VEVENT
BEGIN:VEVENT
DTSTART;TZID=Australia/Sydney:20261223T123000
DTEND;TZID=Australia/Sydney:20261223T131500
DTSTAMP:20260422T190704
CREATED:20241204T014608Z
LAST-MODIFIED:20251123T221428Z
UID:10099338-1798029000-1798031700@synergyhealthworks.com
SUMMARY:Barre
DESCRIPTION:
URL:https://synergyhealthworks.com/event/barre-2/2026-12-23/
LOCATION:Wagga Wagga | Reformer Studio\, 221 Kincaid Street\, Wagga Wagga\, NSW\, 2650\, Australia
CATEGORIES:Barre
END:VEVENT
BEGIN:VEVENT
DTSTART;TZID=Australia/Sydney:20261223T140000
DTEND;TZID=Australia/Sydney:20261223T144500
DTSTAMP:20260422T190704
CREATED:20251123T222028Z
LAST-MODIFIED:20251123T222107Z
UID:10128240-1798034400-1798037100@synergyhealthworks.com
SUMMARY:Gentle Reformer
DESCRIPTION:
URL:https://synergyhealthworks.com/event/gentle-reformer-12/2026-12-23/
LOCATION:Wagga Wagga | Reformer Studio\, 221 Kincaid Street\, Wagga Wagga\, NSW\, 2650\, Australia
CATEGORIES:Clinical Reformer
END:VEVENT
BEGIN:VEVENT
DTSTART;TZID=Australia/Sydney:20261228T103000
DTEND;TZID=Australia/Sydney:20261228T111500
DTSTAMP:20260422T190704
CREATED:20241204T010434Z
LAST-MODIFIED:20251123T223251Z
UID:10129085-1798453800-1798456500@synergyhealthworks.com
SUMMARY:Matwork Core Class
DESCRIPTION:
URL:https://synergyhealthworks.com/event/matwork-core-class-12/2026-12-28/
LOCATION:Wagga Wagga | Mat Studio\, 221 Kincaid Street\, Wagga Wagga\, NSW\, 2650\, Australia
CATEGORIES:Matwork
END:VEVENT
BEGIN:VEVENT
DTSTART;TZID=Australia/Sydney:20261228T113000
DTEND;TZID=Australia/Sydney:20261228T121500
DTSTAMP:20260422T190704
CREATED:20251123T223427Z
LAST-MODIFIED:20251123T223427Z
UID:10129689-1798457400-1798460100@synergyhealthworks.com
SUMMARY:Mums and Bubs Core Class
DESCRIPTION:
URL:https://synergyhealthworks.com/event/mums-and-bubs-core-class-8/2026-12-28/
LOCATION:Wagga Wagga | Mat Studio\, 221 Kincaid Street\, Wagga Wagga\, NSW\, 2650\, Australia
CATEGORIES:Mums and Bubs
END:VEVENT
BEGIN:VEVENT
DTSTART;TZID=Australia/Sydney:20261229T123000
DTEND;TZID=Australia/Sydney:20261229T131500
DTSTAMP:20260422T190704
CREATED:20241204T010916Z
LAST-MODIFIED:20251123T223831Z
UID:10130075-1798547400-1798550100@synergyhealthworks.com
SUMMARY:Pregnancy Matwork Class
DESCRIPTION:
URL:https://synergyhealthworks.com/event/pregnancy-matwork-class-4/2026-12-29/
LOCATION:Wagga Wagga | Mat Studio\, 221 Kincaid Street\, Wagga Wagga\, NSW\, 2650\, Australia
CATEGORIES:Pregnancy Matwork
END:VEVENT
BEGIN:VEVENT
DTSTART;TZID=Australia/Sydney:20261230T123000
DTEND;TZID=Australia/Sydney:20261230T131500
DTSTAMP:20260422T190704
CREATED:20241204T014608Z
LAST-MODIFIED:20251123T221428Z
UID:10099339-1798633800-1798636500@synergyhealthworks.com
SUMMARY:Barre
DESCRIPTION:
URL:https://synergyhealthworks.com/event/barre-2/2026-12-30/
LOCATION:Wagga Wagga | Reformer Studio\, 221 Kincaid Street\, Wagga Wagga\, NSW\, 2650\, Australia
CATEGORIES:Barre
END:VEVENT
BEGIN:VEVENT
DTSTART;TZID=Australia/Sydney:20261230T140000
DTEND;TZID=Australia/Sydney:20261230T144500
DTSTAMP:20260422T190704
CREATED:20251123T222028Z
LAST-MODIFIED:20251123T222107Z
UID:10128241-1798639200-1798641900@synergyhealthworks.com
SUMMARY:Gentle Reformer
DESCRIPTION:
URL:https://synergyhealthworks.com/event/gentle-reformer-12/2026-12-30/
LOCATION:Wagga Wagga | Reformer Studio\, 221 Kincaid Street\, Wagga Wagga\, NSW\, 2650\, Australia
CATEGORIES:Clinical Reformer
END:VEVENT
BEGIN:VEVENT
DTSTART;TZID=Australia/Sydney:20270104T103000
DTEND;TZID=Australia/Sydney:20270104T111500
DTSTAMP:20260422T190704
CREATED:20241204T010434Z
LAST-MODIFIED:20251123T223251Z
UID:10129086-1799058600-1799061300@synergyhealthworks.com
SUMMARY:Matwork Core Class
DESCRIPTION:
URL:https://synergyhealthworks.com/event/matwork-core-class-12/2027-01-04/
LOCATION:Wagga Wagga | Mat Studio\, 221 Kincaid Street\, Wagga Wagga\, NSW\, 2650\, Australia
CATEGORIES:Matwork
END:VEVENT
BEGIN:VEVENT
DTSTART;TZID=Australia/Sydney:20270104T113000
DTEND;TZID=Australia/Sydney:20270104T121500
DTSTAMP:20260422T190704
CREATED:20251123T223427Z
LAST-MODIFIED:20251123T223427Z
UID:10129690-1799062200-1799064900@synergyhealthworks.com
SUMMARY:Mums and Bubs Core Class
DESCRIPTION:
URL:https://synergyhealthworks.com/event/mums-and-bubs-core-class-8/2027-01-04/
LOCATION:Wagga Wagga | Mat Studio\, 221 Kincaid Street\, Wagga Wagga\, NSW\, 2650\, Australia
CATEGORIES:Mums and Bubs
END:VEVENT
BEGIN:VEVENT
DTSTART;TZID=Australia/Sydney:20270105T123000
DTEND;TZID=Australia/Sydney:20270105T131500
DTSTAMP:20260422T190704
CREATED:20241204T010916Z
LAST-MODIFIED:20251123T223831Z
UID:10130076-1799152200-1799154900@synergyhealthworks.com
SUMMARY:Pregnancy Matwork Class
DESCRIPTION:
URL:https://synergyhealthworks.com/event/pregnancy-matwork-class-4/2027-01-05/
LOCATION:Wagga Wagga | Mat Studio\, 221 Kincaid Street\, Wagga Wagga\, NSW\, 2650\, Australia
CATEGORIES:Pregnancy Matwork
END:VEVENT
BEGIN:VEVENT
DTSTART;TZID=Australia/Sydney:20270106T123000
DTEND;TZID=Australia/Sydney:20270106T131500
DTSTAMP:20260422T190704
CREATED:20241204T014608Z
LAST-MODIFIED:20251123T221428Z
UID:10099340-1799238600-1799241300@synergyhealthworks.com
SUMMARY:Barre
DESCRIPTION:
URL:https://synergyhealthworks.com/event/barre-2/2027-01-06/
LOCATION:Wagga Wagga | Reformer Studio\, 221 Kincaid Street\, Wagga Wagga\, NSW\, 2650\, Australia
CATEGORIES:Barre
END:VEVENT
BEGIN:VEVENT
DTSTART;TZID=Australia/Sydney:20270106T140000
DTEND;TZID=Australia/Sydney:20270106T144500
DTSTAMP:20260422T190704
CREATED:20251123T222028Z
LAST-MODIFIED:20251123T222107Z
UID:10128242-1799244000-1799246700@synergyhealthworks.com
SUMMARY:Gentle Reformer
DESCRIPTION:
URL:https://synergyhealthworks.com/event/gentle-reformer-12/2027-01-06/
LOCATION:Wagga Wagga | Reformer Studio\, 221 Kincaid Street\, Wagga Wagga\, NSW\, 2650\, Australia
CATEGORIES:Clinical Reformer
END:VEVENT
BEGIN:VEVENT
DTSTART;TZID=Australia/Sydney:20270111T103000
DTEND;TZID=Australia/Sydney:20270111T111500
DTSTAMP:20260422T190704
CREATED:20241204T010434Z
LAST-MODIFIED:20251123T223251Z
UID:10129087-1799663400-1799666100@synergyhealthworks.com
SUMMARY:Matwork Core Class
DESCRIPTION:
URL:https://synergyhealthworks.com/event/matwork-core-class-12/2027-01-11/
LOCATION:Wagga Wagga | Mat Studio\, 221 Kincaid Street\, Wagga Wagga\, NSW\, 2650\, Australia
CATEGORIES:Matwork
END:VEVENT
BEGIN:VEVENT
DTSTART;TZID=Australia/Sydney:20270111T113000
DTEND;TZID=Australia/Sydney:20270111T121500
DTSTAMP:20260422T190704
CREATED:20251123T223427Z
LAST-MODIFIED:20251123T223427Z
UID:10129691-1799667000-1799669700@synergyhealthworks.com
SUMMARY:Mums and Bubs Core Class
DESCRIPTION:
URL:https://synergyhealthworks.com/event/mums-and-bubs-core-class-8/2027-01-11/
LOCATION:Wagga Wagga | Mat Studio\, 221 Kincaid Street\, Wagga Wagga\, NSW\, 2650\, Australia
CATEGORIES:Mums and Bubs
END:VEVENT
BEGIN:VEVENT
DTSTART;TZID=Australia/Sydney:20270112T123000
DTEND;TZID=Australia/Sydney:20270112T131500
DTSTAMP:20260422T190704
CREATED:20241204T010916Z
LAST-MODIFIED:20251123T223831Z
UID:10130077-1799757000-1799759700@synergyhealthworks.com
SUMMARY:Pregnancy Matwork Class
DESCRIPTION:
URL:https://synergyhealthworks.com/event/pregnancy-matwork-class-4/2027-01-12/
LOCATION:Wagga Wagga | Mat Studio\, 221 Kincaid Street\, Wagga Wagga\, NSW\, 2650\, Australia
CATEGORIES:Pregnancy Matwork
END:VEVENT
BEGIN:VEVENT
DTSTART;TZID=Australia/Sydney:20270113T123000
DTEND;TZID=Australia/Sydney:20270113T131500
DTSTAMP:20260422T190704
CREATED:20241204T014608Z
LAST-MODIFIED:20251123T221428Z
UID:10099341-1799843400-1799846100@synergyhealthworks.com
SUMMARY:Barre
DESCRIPTION:
URL:https://synergyhealthworks.com/event/barre-2/2027-01-13/
LOCATION:Wagga Wagga | Reformer Studio\, 221 Kincaid Street\, Wagga Wagga\, NSW\, 2650\, Australia
CATEGORIES:Barre
END:VEVENT
BEGIN:VEVENT
DTSTART;TZID=Australia/Sydney:20270113T140000
DTEND;TZID=Australia/Sydney:20270113T144500
DTSTAMP:20260422T190704
CREATED:20251123T222028Z
LAST-MODIFIED:20251123T222107Z
UID:10128243-1799848800-1799851500@synergyhealthworks.com
SUMMARY:Gentle Reformer
DESCRIPTION:
URL:https://synergyhealthworks.com/event/gentle-reformer-12/2027-01-13/
LOCATION:Wagga Wagga | Reformer Studio\, 221 Kincaid Street\, Wagga Wagga\, NSW\, 2650\, Australia
CATEGORIES:Clinical Reformer
END:VEVENT
BEGIN:VEVENT
DTSTART;TZID=Australia/Sydney:20270118T103000
DTEND;TZID=Australia/Sydney:20270118T111500
DTSTAMP:20260422T190704
CREATED:20241204T010434Z
LAST-MODIFIED:20251123T223251Z
UID:10129088-1800268200-1800270900@synergyhealthworks.com
SUMMARY:Matwork Core Class
DESCRIPTION:
URL:https://synergyhealthworks.com/event/matwork-core-class-12/2027-01-18/
LOCATION:Wagga Wagga | Mat Studio\, 221 Kincaid Street\, Wagga Wagga\, NSW\, 2650\, Australia
CATEGORIES:Matwork
END:VEVENT
BEGIN:VEVENT
DTSTART;TZID=Australia/Sydney:20270118T113000
DTEND;TZID=Australia/Sydney:20270118T121500
DTSTAMP:20260422T190704
CREATED:20251123T223427Z
LAST-MODIFIED:20251123T223427Z
UID:10129692-1800271800-1800274500@synergyhealthworks.com
SUMMARY:Mums and Bubs Core Class
DESCRIPTION:
URL:https://synergyhealthworks.com/event/mums-and-bubs-core-class-8/2027-01-18/
LOCATION:Wagga Wagga | Mat Studio\, 221 Kincaid Street\, Wagga Wagga\, NSW\, 2650\, Australia
CATEGORIES:Mums and Bubs
END:VEVENT
BEGIN:VEVENT
DTSTART;TZID=Australia/Sydney:20270119T123000
DTEND;TZID=Australia/Sydney:20270119T131500
DTSTAMP:20260422T190704
CREATED:20241204T010916Z
LAST-MODIFIED:20251123T223831Z
UID:10130078-1800361800-1800364500@synergyhealthworks.com
SUMMARY:Pregnancy Matwork Class
DESCRIPTION:
URL:https://synergyhealthworks.com/event/pregnancy-matwork-class-4/2027-01-19/
LOCATION:Wagga Wagga | Mat Studio\, 221 Kincaid Street\, Wagga Wagga\, NSW\, 2650\, Australia
CATEGORIES:Pregnancy Matwork
END:VEVENT
BEGIN:VEVENT
DTSTART;TZID=Australia/Sydney:20270120T123000
DTEND;TZID=Australia/Sydney:20270120T131500
DTSTAMP:20260422T190704
CREATED:20241204T014608Z
LAST-MODIFIED:20251123T221428Z
UID:10099342-1800448200-1800450900@synergyhealthworks.com
SUMMARY:Barre
DESCRIPTION:
URL:https://synergyhealthworks.com/event/barre-2/2027-01-20/
LOCATION:Wagga Wagga | Reformer Studio\, 221 Kincaid Street\, Wagga Wagga\, NSW\, 2650\, Australia
CATEGORIES:Barre
END:VEVENT
BEGIN:VEVENT
DTSTART;TZID=Australia/Sydney:20270120T140000
DTEND;TZID=Australia/Sydney:20270120T144500
DTSTAMP:20260422T190704
CREATED:20251123T222028Z
LAST-MODIFIED:20251123T222107Z
UID:10128244-1800453600-1800456300@synergyhealthworks.com
SUMMARY:Gentle Reformer
DESCRIPTION:
URL:https://synergyhealthworks.com/event/gentle-reformer-12/2027-01-20/
LOCATION:Wagga Wagga | Reformer Studio\, 221 Kincaid Street\, Wagga Wagga\, NSW\, 2650\, Australia
CATEGORIES:Clinical Reformer
END:VEVENT
BEGIN:VEVENT
DTSTART;TZID=Australia/Sydney:20270125T103000
DTEND;TZID=Australia/Sydney:20270125T111500
DTSTAMP:20260422T190704
CREATED:20241204T010434Z
LAST-MODIFIED:20251123T223251Z
UID:10129089-1800873000-1800875700@synergyhealthworks.com
SUMMARY:Matwork Core Class
DESCRIPTION:
URL:https://synergyhealthworks.com/event/matwork-core-class-12/2027-01-25/
LOCATION:Wagga Wagga | Mat Studio\, 221 Kincaid Street\, Wagga Wagga\, NSW\, 2650\, Australia
CATEGORIES:Matwork
END:VEVENT
BEGIN:VEVENT
DTSTART;TZID=Australia/Sydney:20270125T113000
DTEND;TZID=Australia/Sydney:20270125T121500
DTSTAMP:20260422T190704
CREATED:20251123T223427Z
LAST-MODIFIED:20251123T223427Z
UID:10129693-1800876600-1800879300@synergyhealthworks.com
SUMMARY:Mums and Bubs Core Class
DESCRIPTION:
URL:https://synergyhealthworks.com/event/mums-and-bubs-core-class-8/2027-01-25/
LOCATION:Wagga Wagga | Mat Studio\, 221 Kincaid Street\, Wagga Wagga\, NSW\, 2650\, Australia
CATEGORIES:Mums and Bubs
END:VEVENT
BEGIN:VEVENT
DTSTART;TZID=Australia/Sydney:20270126T123000
DTEND;TZID=Australia/Sydney:20270126T131500
DTSTAMP:20260422T190704
CREATED:20241204T010916Z
LAST-MODIFIED:20251123T223831Z
UID:10130079-1800966600-1800969300@synergyhealthworks.com
SUMMARY:Pregnancy Matwork Class
DESCRIPTION:
URL:https://synergyhealthworks.com/event/pregnancy-matwork-class-4/2027-01-26/
LOCATION:Wagga Wagga | Mat Studio\, 221 Kincaid Street\, Wagga Wagga\, NSW\, 2650\, Australia
CATEGORIES:Pregnancy Matwork
END:VEVENT
END:VCALENDAR