BEGIN:VCALENDAR
VERSION:2.0
PRODID:-//Synergy Healthworks - ECPv6.15.20//NONSGML v1.0//EN
CALSCALE:GREGORIAN
METHOD:PUBLISH
X-ORIGINAL-URL:https://synergyhealthworks.com
X-WR-CALDESC:Events for Synergy Healthworks
REFRESH-INTERVAL;VALUE=DURATION:PT1H
X-Robots-Tag:noindex
X-PUBLISHED-TTL:PT1H
BEGIN:VTIMEZONE
TZID:Australia/Sydney
BEGIN:STANDARD
TZOFFSETFROM:+1100
TZOFFSETTO:+1000
TZNAME:AEST
DTSTART:20250405T160000
END:STANDARD
BEGIN:DAYLIGHT
TZOFFSETFROM:+1000
TZOFFSETTO:+1100
TZNAME:AEDT
DTSTART:20251004T160000
END:DAYLIGHT
BEGIN:STANDARD
TZOFFSETFROM:+1100
TZOFFSETTO:+1000
TZNAME:AEST
DTSTART:20260404T160000
END:STANDARD
BEGIN:DAYLIGHT
TZOFFSETFROM:+1000
TZOFFSETTO:+1100
TZNAME:AEDT
DTSTART:20261003T160000
END:DAYLIGHT
BEGIN:STANDARD
TZOFFSETFROM:+1100
TZOFFSETTO:+1000
TZNAME:AEST
DTSTART:20270403T160000
END:STANDARD
BEGIN:DAYLIGHT
TZOFFSETFROM:+1000
TZOFFSETTO:+1100
TZNAME:AEDT
DTSTART:20271002T160000
END:DAYLIGHT
END:VTIMEZONE
BEGIN:VEVENT
DTSTART;TZID=Australia/Sydney:20261111T140000
DTEND;TZID=Australia/Sydney:20261111T144500
DTSTAMP:20260422T153146
CREATED:20251123T222028Z
LAST-MODIFIED:20251123T222107Z
UID:10128234-1794405600-1794408300@synergyhealthworks.com
SUMMARY:Gentle Reformer
DESCRIPTION:
URL:https://synergyhealthworks.com/event/gentle-reformer-12/2026-11-11/
LOCATION:Wagga Wagga | Reformer Studio\, 221 Kincaid Street\, Wagga Wagga\, NSW\, 2650\, Australia
CATEGORIES:Clinical Reformer
END:VEVENT
BEGIN:VEVENT
DTSTART;TZID=Australia/Sydney:20261116T103000
DTEND;TZID=Australia/Sydney:20261116T111500
DTSTAMP:20260422T153146
CREATED:20241204T010434Z
LAST-MODIFIED:20251123T223251Z
UID:10129079-1794825000-1794827700@synergyhealthworks.com
SUMMARY:Matwork Core Class
DESCRIPTION:
URL:https://synergyhealthworks.com/event/matwork-core-class-12/2026-11-16/
LOCATION:Wagga Wagga | Mat Studio\, 221 Kincaid Street\, Wagga Wagga\, NSW\, 2650\, Australia
CATEGORIES:Matwork
END:VEVENT
BEGIN:VEVENT
DTSTART;TZID=Australia/Sydney:20261116T113000
DTEND;TZID=Australia/Sydney:20261116T121500
DTSTAMP:20260422T153146
CREATED:20251123T223427Z
LAST-MODIFIED:20251123T223427Z
UID:10129683-1794828600-1794831300@synergyhealthworks.com
SUMMARY:Mums and Bubs Core Class
DESCRIPTION:
URL:https://synergyhealthworks.com/event/mums-and-bubs-core-class-8/2026-11-16/
LOCATION:Wagga Wagga | Mat Studio\, 221 Kincaid Street\, Wagga Wagga\, NSW\, 2650\, Australia
CATEGORIES:Mums and Bubs
END:VEVENT
BEGIN:VEVENT
DTSTART;TZID=Australia/Sydney:20261117T123000
DTEND;TZID=Australia/Sydney:20261117T131500
DTSTAMP:20260422T153146
CREATED:20241204T010916Z
LAST-MODIFIED:20251123T223831Z
UID:10130069-1794918600-1794921300@synergyhealthworks.com
SUMMARY:Pregnancy Matwork Class
DESCRIPTION:
URL:https://synergyhealthworks.com/event/pregnancy-matwork-class-4/2026-11-17/
LOCATION:Wagga Wagga | Mat Studio\, 221 Kincaid Street\, Wagga Wagga\, NSW\, 2650\, Australia
CATEGORIES:Pregnancy Matwork
END:VEVENT
BEGIN:VEVENT
DTSTART;TZID=Australia/Sydney:20261118T123000
DTEND;TZID=Australia/Sydney:20261118T131500
DTSTAMP:20260422T153146
CREATED:20241204T014608Z
LAST-MODIFIED:20251123T221428Z
UID:10099333-1795005000-1795007700@synergyhealthworks.com
SUMMARY:Barre
DESCRIPTION:
URL:https://synergyhealthworks.com/event/barre-2/2026-11-18/
LOCATION:Wagga Wagga | Reformer Studio\, 221 Kincaid Street\, Wagga Wagga\, NSW\, 2650\, Australia
CATEGORIES:Barre
END:VEVENT
BEGIN:VEVENT
DTSTART;TZID=Australia/Sydney:20261118T140000
DTEND;TZID=Australia/Sydney:20261118T144500
DTSTAMP:20260422T153146
CREATED:20251123T222028Z
LAST-MODIFIED:20251123T222107Z
UID:10128235-1795010400-1795013100@synergyhealthworks.com
SUMMARY:Gentle Reformer
DESCRIPTION:
URL:https://synergyhealthworks.com/event/gentle-reformer-12/2026-11-18/
LOCATION:Wagga Wagga | Reformer Studio\, 221 Kincaid Street\, Wagga Wagga\, NSW\, 2650\, Australia
CATEGORIES:Clinical Reformer
END:VEVENT
BEGIN:VEVENT
DTSTART;TZID=Australia/Sydney:20261123T103000
DTEND;TZID=Australia/Sydney:20261123T111500
DTSTAMP:20260422T153146
CREATED:20241204T010434Z
LAST-MODIFIED:20251123T223251Z
UID:10129080-1795429800-1795432500@synergyhealthworks.com
SUMMARY:Matwork Core Class
DESCRIPTION:
URL:https://synergyhealthworks.com/event/matwork-core-class-12/2026-11-23/
LOCATION:Wagga Wagga | Mat Studio\, 221 Kincaid Street\, Wagga Wagga\, NSW\, 2650\, Australia
CATEGORIES:Matwork
END:VEVENT
BEGIN:VEVENT
DTSTART;TZID=Australia/Sydney:20261123T113000
DTEND;TZID=Australia/Sydney:20261123T121500
DTSTAMP:20260422T153146
CREATED:20251123T223427Z
LAST-MODIFIED:20251123T223427Z
UID:10129684-1795433400-1795436100@synergyhealthworks.com
SUMMARY:Mums and Bubs Core Class
DESCRIPTION:
URL:https://synergyhealthworks.com/event/mums-and-bubs-core-class-8/2026-11-23/
LOCATION:Wagga Wagga | Mat Studio\, 221 Kincaid Street\, Wagga Wagga\, NSW\, 2650\, Australia
CATEGORIES:Mums and Bubs
END:VEVENT
BEGIN:VEVENT
DTSTART;TZID=Australia/Sydney:20261124T123000
DTEND;TZID=Australia/Sydney:20261124T131500
DTSTAMP:20260422T153146
CREATED:20241204T010916Z
LAST-MODIFIED:20251123T223831Z
UID:10130070-1795523400-1795526100@synergyhealthworks.com
SUMMARY:Pregnancy Matwork Class
DESCRIPTION:
URL:https://synergyhealthworks.com/event/pregnancy-matwork-class-4/2026-11-24/
LOCATION:Wagga Wagga | Mat Studio\, 221 Kincaid Street\, Wagga Wagga\, NSW\, 2650\, Australia
CATEGORIES:Pregnancy Matwork
END:VEVENT
BEGIN:VEVENT
DTSTART;TZID=Australia/Sydney:20261125T123000
DTEND;TZID=Australia/Sydney:20261125T131500
DTSTAMP:20260422T153146
CREATED:20241204T014608Z
LAST-MODIFIED:20251123T221428Z
UID:10099334-1795609800-1795612500@synergyhealthworks.com
SUMMARY:Barre
DESCRIPTION:
URL:https://synergyhealthworks.com/event/barre-2/2026-11-25/
LOCATION:Wagga Wagga | Reformer Studio\, 221 Kincaid Street\, Wagga Wagga\, NSW\, 2650\, Australia
CATEGORIES:Barre
END:VEVENT
BEGIN:VEVENT
DTSTART;TZID=Australia/Sydney:20261125T140000
DTEND;TZID=Australia/Sydney:20261125T144500
DTSTAMP:20260422T153146
CREATED:20251123T222028Z
LAST-MODIFIED:20251123T222107Z
UID:10128236-1795615200-1795617900@synergyhealthworks.com
SUMMARY:Gentle Reformer
DESCRIPTION:
URL:https://synergyhealthworks.com/event/gentle-reformer-12/2026-11-25/
LOCATION:Wagga Wagga | Reformer Studio\, 221 Kincaid Street\, Wagga Wagga\, NSW\, 2650\, Australia
CATEGORIES:Clinical Reformer
END:VEVENT
BEGIN:VEVENT
DTSTART;TZID=Australia/Sydney:20261130T103000
DTEND;TZID=Australia/Sydney:20261130T111500
DTSTAMP:20260422T153146
CREATED:20241204T010434Z
LAST-MODIFIED:20251123T223251Z
UID:10129081-1796034600-1796037300@synergyhealthworks.com
SUMMARY:Matwork Core Class
DESCRIPTION:
URL:https://synergyhealthworks.com/event/matwork-core-class-12/2026-11-30/
LOCATION:Wagga Wagga | Mat Studio\, 221 Kincaid Street\, Wagga Wagga\, NSW\, 2650\, Australia
CATEGORIES:Matwork
END:VEVENT
BEGIN:VEVENT
DTSTART;TZID=Australia/Sydney:20261130T113000
DTEND;TZID=Australia/Sydney:20261130T121500
DTSTAMP:20260422T153146
CREATED:20251123T223427Z
LAST-MODIFIED:20251123T223427Z
UID:10129685-1796038200-1796040900@synergyhealthworks.com
SUMMARY:Mums and Bubs Core Class
DESCRIPTION:
URL:https://synergyhealthworks.com/event/mums-and-bubs-core-class-8/2026-11-30/
LOCATION:Wagga Wagga | Mat Studio\, 221 Kincaid Street\, Wagga Wagga\, NSW\, 2650\, Australia
CATEGORIES:Mums and Bubs
END:VEVENT
BEGIN:VEVENT
DTSTART;TZID=Australia/Sydney:20261201T123000
DTEND;TZID=Australia/Sydney:20261201T131500
DTSTAMP:20260422T153146
CREATED:20241204T010916Z
LAST-MODIFIED:20251123T223831Z
UID:10130071-1796128200-1796130900@synergyhealthworks.com
SUMMARY:Pregnancy Matwork Class
DESCRIPTION:
URL:https://synergyhealthworks.com/event/pregnancy-matwork-class-4/2026-12-01/
LOCATION:Wagga Wagga | Mat Studio\, 221 Kincaid Street\, Wagga Wagga\, NSW\, 2650\, Australia
CATEGORIES:Pregnancy Matwork
END:VEVENT
BEGIN:VEVENT
DTSTART;TZID=Australia/Sydney:20261202T123000
DTEND;TZID=Australia/Sydney:20261202T131500
DTSTAMP:20260422T153146
CREATED:20241204T014608Z
LAST-MODIFIED:20251123T221428Z
UID:10099335-1796214600-1796217300@synergyhealthworks.com
SUMMARY:Barre
DESCRIPTION:
URL:https://synergyhealthworks.com/event/barre-2/2026-12-02/
LOCATION:Wagga Wagga | Reformer Studio\, 221 Kincaid Street\, Wagga Wagga\, NSW\, 2650\, Australia
CATEGORIES:Barre
END:VEVENT
BEGIN:VEVENT
DTSTART;TZID=Australia/Sydney:20261202T140000
DTEND;TZID=Australia/Sydney:20261202T144500
DTSTAMP:20260422T153146
CREATED:20251123T222028Z
LAST-MODIFIED:20251123T222107Z
UID:10128237-1796220000-1796222700@synergyhealthworks.com
SUMMARY:Gentle Reformer
DESCRIPTION:
URL:https://synergyhealthworks.com/event/gentle-reformer-12/2026-12-02/
LOCATION:Wagga Wagga | Reformer Studio\, 221 Kincaid Street\, Wagga Wagga\, NSW\, 2650\, Australia
CATEGORIES:Clinical Reformer
END:VEVENT
BEGIN:VEVENT
DTSTART;TZID=Australia/Sydney:20261207T103000
DTEND;TZID=Australia/Sydney:20261207T111500
DTSTAMP:20260422T153146
CREATED:20241204T010434Z
LAST-MODIFIED:20251123T223251Z
UID:10129082-1796639400-1796642100@synergyhealthworks.com
SUMMARY:Matwork Core Class
DESCRIPTION:
URL:https://synergyhealthworks.com/event/matwork-core-class-12/2026-12-07/
LOCATION:Wagga Wagga | Mat Studio\, 221 Kincaid Street\, Wagga Wagga\, NSW\, 2650\, Australia
CATEGORIES:Matwork
END:VEVENT
BEGIN:VEVENT
DTSTART;TZID=Australia/Sydney:20261207T113000
DTEND;TZID=Australia/Sydney:20261207T121500
DTSTAMP:20260422T153146
CREATED:20251123T223427Z
LAST-MODIFIED:20251123T223427Z
UID:10129686-1796643000-1796645700@synergyhealthworks.com
SUMMARY:Mums and Bubs Core Class
DESCRIPTION:
URL:https://synergyhealthworks.com/event/mums-and-bubs-core-class-8/2026-12-07/
LOCATION:Wagga Wagga | Mat Studio\, 221 Kincaid Street\, Wagga Wagga\, NSW\, 2650\, Australia
CATEGORIES:Mums and Bubs
END:VEVENT
BEGIN:VEVENT
DTSTART;TZID=Australia/Sydney:20261208T123000
DTEND;TZID=Australia/Sydney:20261208T131500
DTSTAMP:20260422T153146
CREATED:20241204T010916Z
LAST-MODIFIED:20251123T223831Z
UID:10130072-1796733000-1796735700@synergyhealthworks.com
SUMMARY:Pregnancy Matwork Class
DESCRIPTION:
URL:https://synergyhealthworks.com/event/pregnancy-matwork-class-4/2026-12-08/
LOCATION:Wagga Wagga | Mat Studio\, 221 Kincaid Street\, Wagga Wagga\, NSW\, 2650\, Australia
CATEGORIES:Pregnancy Matwork
END:VEVENT
BEGIN:VEVENT
DTSTART;TZID=Australia/Sydney:20261209T123000
DTEND;TZID=Australia/Sydney:20261209T131500
DTSTAMP:20260422T153146
CREATED:20241204T014608Z
LAST-MODIFIED:20251123T221428Z
UID:10099336-1796819400-1796822100@synergyhealthworks.com
SUMMARY:Barre
DESCRIPTION:
URL:https://synergyhealthworks.com/event/barre-2/2026-12-09/
LOCATION:Wagga Wagga | Reformer Studio\, 221 Kincaid Street\, Wagga Wagga\, NSW\, 2650\, Australia
CATEGORIES:Barre
END:VEVENT
BEGIN:VEVENT
DTSTART;TZID=Australia/Sydney:20261209T140000
DTEND;TZID=Australia/Sydney:20261209T144500
DTSTAMP:20260422T153146
CREATED:20251123T222028Z
LAST-MODIFIED:20251123T222107Z
UID:10128238-1796824800-1796827500@synergyhealthworks.com
SUMMARY:Gentle Reformer
DESCRIPTION:
URL:https://synergyhealthworks.com/event/gentle-reformer-12/2026-12-09/
LOCATION:Wagga Wagga | Reformer Studio\, 221 Kincaid Street\, Wagga Wagga\, NSW\, 2650\, Australia
CATEGORIES:Clinical Reformer
END:VEVENT
BEGIN:VEVENT
DTSTART;TZID=Australia/Sydney:20261214T103000
DTEND;TZID=Australia/Sydney:20261214T111500
DTSTAMP:20260422T153146
CREATED:20241204T010434Z
LAST-MODIFIED:20251123T223251Z
UID:10129083-1797244200-1797246900@synergyhealthworks.com
SUMMARY:Matwork Core Class
DESCRIPTION:
URL:https://synergyhealthworks.com/event/matwork-core-class-12/2026-12-14/
LOCATION:Wagga Wagga | Mat Studio\, 221 Kincaid Street\, Wagga Wagga\, NSW\, 2650\, Australia
CATEGORIES:Matwork
END:VEVENT
BEGIN:VEVENT
DTSTART;TZID=Australia/Sydney:20261214T113000
DTEND;TZID=Australia/Sydney:20261214T121500
DTSTAMP:20260422T153146
CREATED:20251123T223427Z
LAST-MODIFIED:20251123T223427Z
UID:10129687-1797247800-1797250500@synergyhealthworks.com
SUMMARY:Mums and Bubs Core Class
DESCRIPTION:
URL:https://synergyhealthworks.com/event/mums-and-bubs-core-class-8/2026-12-14/
LOCATION:Wagga Wagga | Mat Studio\, 221 Kincaid Street\, Wagga Wagga\, NSW\, 2650\, Australia
CATEGORIES:Mums and Bubs
END:VEVENT
BEGIN:VEVENT
DTSTART;TZID=Australia/Sydney:20261215T123000
DTEND;TZID=Australia/Sydney:20261215T131500
DTSTAMP:20260422T153146
CREATED:20241204T010916Z
LAST-MODIFIED:20251123T223831Z
UID:10130073-1797337800-1797340500@synergyhealthworks.com
SUMMARY:Pregnancy Matwork Class
DESCRIPTION:
URL:https://synergyhealthworks.com/event/pregnancy-matwork-class-4/2026-12-15/
LOCATION:Wagga Wagga | Mat Studio\, 221 Kincaid Street\, Wagga Wagga\, NSW\, 2650\, Australia
CATEGORIES:Pregnancy Matwork
END:VEVENT
BEGIN:VEVENT
DTSTART;TZID=Australia/Sydney:20261216T123000
DTEND;TZID=Australia/Sydney:20261216T131500
DTSTAMP:20260422T153146
CREATED:20241204T014608Z
LAST-MODIFIED:20251123T221428Z
UID:10099337-1797424200-1797426900@synergyhealthworks.com
SUMMARY:Barre
DESCRIPTION:
URL:https://synergyhealthworks.com/event/barre-2/2026-12-16/
LOCATION:Wagga Wagga | Reformer Studio\, 221 Kincaid Street\, Wagga Wagga\, NSW\, 2650\, Australia
CATEGORIES:Barre
END:VEVENT
BEGIN:VEVENT
DTSTART;TZID=Australia/Sydney:20261216T140000
DTEND;TZID=Australia/Sydney:20261216T144500
DTSTAMP:20260422T153146
CREATED:20251123T222028Z
LAST-MODIFIED:20251123T222107Z
UID:10128239-1797429600-1797432300@synergyhealthworks.com
SUMMARY:Gentle Reformer
DESCRIPTION:
URL:https://synergyhealthworks.com/event/gentle-reformer-12/2026-12-16/
LOCATION:Wagga Wagga | Reformer Studio\, 221 Kincaid Street\, Wagga Wagga\, NSW\, 2650\, Australia
CATEGORIES:Clinical Reformer
END:VEVENT
BEGIN:VEVENT
DTSTART;TZID=Australia/Sydney:20261221T103000
DTEND;TZID=Australia/Sydney:20261221T111500
DTSTAMP:20260422T153146
CREATED:20241204T010434Z
LAST-MODIFIED:20251123T223251Z
UID:10129084-1797849000-1797851700@synergyhealthworks.com
SUMMARY:Matwork Core Class
DESCRIPTION:
URL:https://synergyhealthworks.com/event/matwork-core-class-12/2026-12-21/
LOCATION:Wagga Wagga | Mat Studio\, 221 Kincaid Street\, Wagga Wagga\, NSW\, 2650\, Australia
CATEGORIES:Matwork
END:VEVENT
BEGIN:VEVENT
DTSTART;TZID=Australia/Sydney:20261221T113000
DTEND;TZID=Australia/Sydney:20261221T121500
DTSTAMP:20260422T153146
CREATED:20251123T223427Z
LAST-MODIFIED:20251123T223427Z
UID:10129688-1797852600-1797855300@synergyhealthworks.com
SUMMARY:Mums and Bubs Core Class
DESCRIPTION:
URL:https://synergyhealthworks.com/event/mums-and-bubs-core-class-8/2026-12-21/
LOCATION:Wagga Wagga | Mat Studio\, 221 Kincaid Street\, Wagga Wagga\, NSW\, 2650\, Australia
CATEGORIES:Mums and Bubs
END:VEVENT
BEGIN:VEVENT
DTSTART;TZID=Australia/Sydney:20261222T123000
DTEND;TZID=Australia/Sydney:20261222T131500
DTSTAMP:20260422T153146
CREATED:20241204T010916Z
LAST-MODIFIED:20251123T223831Z
UID:10130074-1797942600-1797945300@synergyhealthworks.com
SUMMARY:Pregnancy Matwork Class
DESCRIPTION:
URL:https://synergyhealthworks.com/event/pregnancy-matwork-class-4/2026-12-22/
LOCATION:Wagga Wagga | Mat Studio\, 221 Kincaid Street\, Wagga Wagga\, NSW\, 2650\, Australia
CATEGORIES:Pregnancy Matwork
END:VEVENT
BEGIN:VEVENT
DTSTART;TZID=Australia/Sydney:20261223T123000
DTEND;TZID=Australia/Sydney:20261223T131500
DTSTAMP:20260422T153146
CREATED:20241204T014608Z
LAST-MODIFIED:20251123T221428Z
UID:10099338-1798029000-1798031700@synergyhealthworks.com
SUMMARY:Barre
DESCRIPTION:
URL:https://synergyhealthworks.com/event/barre-2/2026-12-23/
LOCATION:Wagga Wagga | Reformer Studio\, 221 Kincaid Street\, Wagga Wagga\, NSW\, 2650\, Australia
CATEGORIES:Barre
END:VEVENT
END:VCALENDAR