BEGIN:VCALENDAR
VERSION:2.0
PRODID:-//Synergy Healthworks - ECPv6.15.20//NONSGML v1.0//EN
CALSCALE:GREGORIAN
METHOD:PUBLISH
X-WR-CALNAME:Synergy Healthworks
X-ORIGINAL-URL:https://synergyhealthworks.com
X-WR-CALDESC:Events for Synergy Healthworks
REFRESH-INTERVAL;VALUE=DURATION:PT1H
X-Robots-Tag:noindex
X-PUBLISHED-TTL:PT1H
BEGIN:VTIMEZONE
TZID:Australia/Sydney
BEGIN:STANDARD
TZOFFSETFROM:+1100
TZOFFSETTO:+1000
TZNAME:AEST
DTSTART:20250405T160000
END:STANDARD
BEGIN:DAYLIGHT
TZOFFSETFROM:+1000
TZOFFSETTO:+1100
TZNAME:AEDT
DTSTART:20251004T160000
END:DAYLIGHT
BEGIN:STANDARD
TZOFFSETFROM:+1100
TZOFFSETTO:+1000
TZNAME:AEST
DTSTART:20260404T160000
END:STANDARD
BEGIN:DAYLIGHT
TZOFFSETFROM:+1000
TZOFFSETTO:+1100
TZNAME:AEDT
DTSTART:20261003T160000
END:DAYLIGHT
BEGIN:STANDARD
TZOFFSETFROM:+1100
TZOFFSETTO:+1000
TZNAME:AEST
DTSTART:20270403T160000
END:STANDARD
BEGIN:DAYLIGHT
TZOFFSETFROM:+1000
TZOFFSETTO:+1100
TZNAME:AEDT
DTSTART:20271002T160000
END:DAYLIGHT
END:VTIMEZONE
BEGIN:VEVENT
DTSTART;TZID=Australia/Sydney:20260921T113000
DTEND;TZID=Australia/Sydney:20260921T121500
DTSTAMP:20260422T095540
CREATED:20251123T223427Z
LAST-MODIFIED:20251123T223427Z
UID:10129675-1789990200-1789992900@synergyhealthworks.com
SUMMARY:Mums and Bubs Core Class
DESCRIPTION:
URL:https://synergyhealthworks.com/event/mums-and-bubs-core-class-8/2026-09-21/
LOCATION:Wagga Wagga | Mat Studio\, 221 Kincaid Street\, Wagga Wagga\, NSW\, 2650\, Australia
CATEGORIES:Mums and Bubs
END:VEVENT
BEGIN:VEVENT
DTSTART;TZID=Australia/Sydney:20260922T123000
DTEND;TZID=Australia/Sydney:20260922T131500
DTSTAMP:20260422T095540
CREATED:20241204T010916Z
LAST-MODIFIED:20251123T223831Z
UID:10130061-1790080200-1790082900@synergyhealthworks.com
SUMMARY:Pregnancy Matwork Class
DESCRIPTION:
URL:https://synergyhealthworks.com/event/pregnancy-matwork-class-4/2026-09-22/
LOCATION:Wagga Wagga | Mat Studio\, 221 Kincaid Street\, Wagga Wagga\, NSW\, 2650\, Australia
CATEGORIES:Pregnancy Matwork
END:VEVENT
BEGIN:VEVENT
DTSTART;TZID=Australia/Sydney:20260923T123000
DTEND;TZID=Australia/Sydney:20260923T131500
DTSTAMP:20260422T095540
CREATED:20241204T014608Z
LAST-MODIFIED:20251123T221428Z
UID:10099325-1790166600-1790169300@synergyhealthworks.com
SUMMARY:Barre
DESCRIPTION:
URL:https://synergyhealthworks.com/event/barre-2/2026-09-23/
LOCATION:Wagga Wagga | Reformer Studio\, 221 Kincaid Street\, Wagga Wagga\, NSW\, 2650\, Australia
CATEGORIES:Barre
END:VEVENT
BEGIN:VEVENT
DTSTART;TZID=Australia/Sydney:20260923T140000
DTEND;TZID=Australia/Sydney:20260923T144500
DTSTAMP:20260422T095540
CREATED:20251123T222028Z
LAST-MODIFIED:20251123T222107Z
UID:10128227-1790172000-1790174700@synergyhealthworks.com
SUMMARY:Gentle Reformer
DESCRIPTION:
URL:https://synergyhealthworks.com/event/gentle-reformer-12/2026-09-23/
LOCATION:Wagga Wagga | Reformer Studio\, 221 Kincaid Street\, Wagga Wagga\, NSW\, 2650\, Australia
CATEGORIES:Clinical Reformer
END:VEVENT
BEGIN:VEVENT
DTSTART;TZID=Australia/Sydney:20260928T103000
DTEND;TZID=Australia/Sydney:20260928T111500
DTSTAMP:20260422T095540
CREATED:20241204T010434Z
LAST-MODIFIED:20251123T223251Z
UID:10129072-1790591400-1790594100@synergyhealthworks.com
SUMMARY:Matwork Core Class
DESCRIPTION:
URL:https://synergyhealthworks.com/event/matwork-core-class-12/2026-09-28/
LOCATION:Wagga Wagga | Mat Studio\, 221 Kincaid Street\, Wagga Wagga\, NSW\, 2650\, Australia
CATEGORIES:Matwork
END:VEVENT
BEGIN:VEVENT
DTSTART;TZID=Australia/Sydney:20260928T113000
DTEND;TZID=Australia/Sydney:20260928T121500
DTSTAMP:20260422T095540
CREATED:20251123T223427Z
LAST-MODIFIED:20251123T223427Z
UID:10129676-1790595000-1790597700@synergyhealthworks.com
SUMMARY:Mums and Bubs Core Class
DESCRIPTION:
URL:https://synergyhealthworks.com/event/mums-and-bubs-core-class-8/2026-09-28/
LOCATION:Wagga Wagga | Mat Studio\, 221 Kincaid Street\, Wagga Wagga\, NSW\, 2650\, Australia
CATEGORIES:Mums and Bubs
END:VEVENT
BEGIN:VEVENT
DTSTART;TZID=Australia/Sydney:20260929T123000
DTEND;TZID=Australia/Sydney:20260929T131500
DTSTAMP:20260422T095540
CREATED:20241204T010916Z
LAST-MODIFIED:20251123T223831Z
UID:10130062-1790685000-1790687700@synergyhealthworks.com
SUMMARY:Pregnancy Matwork Class
DESCRIPTION:
URL:https://synergyhealthworks.com/event/pregnancy-matwork-class-4/2026-09-29/
LOCATION:Wagga Wagga | Mat Studio\, 221 Kincaid Street\, Wagga Wagga\, NSW\, 2650\, Australia
CATEGORIES:Pregnancy Matwork
END:VEVENT
BEGIN:VEVENT
DTSTART;TZID=Australia/Sydney:20260930T123000
DTEND;TZID=Australia/Sydney:20260930T131500
DTSTAMP:20260422T095540
CREATED:20241204T014608Z
LAST-MODIFIED:20251123T221428Z
UID:10099326-1790771400-1790774100@synergyhealthworks.com
SUMMARY:Barre
DESCRIPTION:
URL:https://synergyhealthworks.com/event/barre-2/2026-09-30/
LOCATION:Wagga Wagga | Reformer Studio\, 221 Kincaid Street\, Wagga Wagga\, NSW\, 2650\, Australia
CATEGORIES:Barre
END:VEVENT
BEGIN:VEVENT
DTSTART;TZID=Australia/Sydney:20260930T140000
DTEND;TZID=Australia/Sydney:20260930T144500
DTSTAMP:20260422T095540
CREATED:20251123T222028Z
LAST-MODIFIED:20251123T222107Z
UID:10128228-1790776800-1790779500@synergyhealthworks.com
SUMMARY:Gentle Reformer
DESCRIPTION:
URL:https://synergyhealthworks.com/event/gentle-reformer-12/2026-09-30/
LOCATION:Wagga Wagga | Reformer Studio\, 221 Kincaid Street\, Wagga Wagga\, NSW\, 2650\, Australia
CATEGORIES:Clinical Reformer
END:VEVENT
BEGIN:VEVENT
DTSTART;TZID=Australia/Sydney:20261005T103000
DTEND;TZID=Australia/Sydney:20261005T111500
DTSTAMP:20260422T095540
CREATED:20241204T010434Z
LAST-MODIFIED:20251123T223251Z
UID:10129073-1791196200-1791198900@synergyhealthworks.com
SUMMARY:Matwork Core Class
DESCRIPTION:
URL:https://synergyhealthworks.com/event/matwork-core-class-12/2026-10-05/
LOCATION:Wagga Wagga | Mat Studio\, 221 Kincaid Street\, Wagga Wagga\, NSW\, 2650\, Australia
CATEGORIES:Matwork
END:VEVENT
BEGIN:VEVENT
DTSTART;TZID=Australia/Sydney:20261005T113000
DTEND;TZID=Australia/Sydney:20261005T121500
DTSTAMP:20260422T095540
CREATED:20251123T223427Z
LAST-MODIFIED:20251123T223427Z
UID:10129677-1791199800-1791202500@synergyhealthworks.com
SUMMARY:Mums and Bubs Core Class
DESCRIPTION:
URL:https://synergyhealthworks.com/event/mums-and-bubs-core-class-8/2026-10-05/
LOCATION:Wagga Wagga | Mat Studio\, 221 Kincaid Street\, Wagga Wagga\, NSW\, 2650\, Australia
CATEGORIES:Mums and Bubs
END:VEVENT
BEGIN:VEVENT
DTSTART;TZID=Australia/Sydney:20261006T123000
DTEND;TZID=Australia/Sydney:20261006T131500
DTSTAMP:20260422T095540
CREATED:20241204T010916Z
LAST-MODIFIED:20251123T223831Z
UID:10130063-1791289800-1791292500@synergyhealthworks.com
SUMMARY:Pregnancy Matwork Class
DESCRIPTION:
URL:https://synergyhealthworks.com/event/pregnancy-matwork-class-4/2026-10-06/
LOCATION:Wagga Wagga | Mat Studio\, 221 Kincaid Street\, Wagga Wagga\, NSW\, 2650\, Australia
CATEGORIES:Pregnancy Matwork
END:VEVENT
BEGIN:VEVENT
DTSTART;TZID=Australia/Sydney:20261007T123000
DTEND;TZID=Australia/Sydney:20261007T131500
DTSTAMP:20260422T095540
CREATED:20241204T014608Z
LAST-MODIFIED:20251123T221428Z
UID:10099327-1791376200-1791378900@synergyhealthworks.com
SUMMARY:Barre
DESCRIPTION:
URL:https://synergyhealthworks.com/event/barre-2/2026-10-07/
LOCATION:Wagga Wagga | Reformer Studio\, 221 Kincaid Street\, Wagga Wagga\, NSW\, 2650\, Australia
CATEGORIES:Barre
END:VEVENT
BEGIN:VEVENT
DTSTART;TZID=Australia/Sydney:20261007T140000
DTEND;TZID=Australia/Sydney:20261007T144500
DTSTAMP:20260422T095540
CREATED:20251123T222028Z
LAST-MODIFIED:20251123T222107Z
UID:10128229-1791381600-1791384300@synergyhealthworks.com
SUMMARY:Gentle Reformer
DESCRIPTION:
URL:https://synergyhealthworks.com/event/gentle-reformer-12/2026-10-07/
LOCATION:Wagga Wagga | Reformer Studio\, 221 Kincaid Street\, Wagga Wagga\, NSW\, 2650\, Australia
CATEGORIES:Clinical Reformer
END:VEVENT
BEGIN:VEVENT
DTSTART;TZID=Australia/Sydney:20261012T103000
DTEND;TZID=Australia/Sydney:20261012T111500
DTSTAMP:20260422T095540
CREATED:20241204T010434Z
LAST-MODIFIED:20251123T223251Z
UID:10129074-1791801000-1791803700@synergyhealthworks.com
SUMMARY:Matwork Core Class
DESCRIPTION:
URL:https://synergyhealthworks.com/event/matwork-core-class-12/2026-10-12/
LOCATION:Wagga Wagga | Mat Studio\, 221 Kincaid Street\, Wagga Wagga\, NSW\, 2650\, Australia
CATEGORIES:Matwork
END:VEVENT
BEGIN:VEVENT
DTSTART;TZID=Australia/Sydney:20261012T113000
DTEND;TZID=Australia/Sydney:20261012T121500
DTSTAMP:20260422T095540
CREATED:20251123T223427Z
LAST-MODIFIED:20251123T223427Z
UID:10129678-1791804600-1791807300@synergyhealthworks.com
SUMMARY:Mums and Bubs Core Class
DESCRIPTION:
URL:https://synergyhealthworks.com/event/mums-and-bubs-core-class-8/2026-10-12/
LOCATION:Wagga Wagga | Mat Studio\, 221 Kincaid Street\, Wagga Wagga\, NSW\, 2650\, Australia
CATEGORIES:Mums and Bubs
END:VEVENT
BEGIN:VEVENT
DTSTART;TZID=Australia/Sydney:20261013T123000
DTEND;TZID=Australia/Sydney:20261013T131500
DTSTAMP:20260422T095540
CREATED:20241204T010916Z
LAST-MODIFIED:20251123T223831Z
UID:10130064-1791894600-1791897300@synergyhealthworks.com
SUMMARY:Pregnancy Matwork Class
DESCRIPTION:
URL:https://synergyhealthworks.com/event/pregnancy-matwork-class-4/2026-10-13/
LOCATION:Wagga Wagga | Mat Studio\, 221 Kincaid Street\, Wagga Wagga\, NSW\, 2650\, Australia
CATEGORIES:Pregnancy Matwork
END:VEVENT
BEGIN:VEVENT
DTSTART;TZID=Australia/Sydney:20261014T123000
DTEND;TZID=Australia/Sydney:20261014T131500
DTSTAMP:20260422T095540
CREATED:20241204T014608Z
LAST-MODIFIED:20251123T221428Z
UID:10099328-1791981000-1791983700@synergyhealthworks.com
SUMMARY:Barre
DESCRIPTION:
URL:https://synergyhealthworks.com/event/barre-2/2026-10-14/
LOCATION:Wagga Wagga | Reformer Studio\, 221 Kincaid Street\, Wagga Wagga\, NSW\, 2650\, Australia
CATEGORIES:Barre
END:VEVENT
BEGIN:VEVENT
DTSTART;TZID=Australia/Sydney:20261014T140000
DTEND;TZID=Australia/Sydney:20261014T144500
DTSTAMP:20260422T095540
CREATED:20251123T222028Z
LAST-MODIFIED:20251123T222107Z
UID:10128230-1791986400-1791989100@synergyhealthworks.com
SUMMARY:Gentle Reformer
DESCRIPTION:
URL:https://synergyhealthworks.com/event/gentle-reformer-12/2026-10-14/
LOCATION:Wagga Wagga | Reformer Studio\, 221 Kincaid Street\, Wagga Wagga\, NSW\, 2650\, Australia
CATEGORIES:Clinical Reformer
END:VEVENT
BEGIN:VEVENT
DTSTART;TZID=Australia/Sydney:20261019T103000
DTEND;TZID=Australia/Sydney:20261019T111500
DTSTAMP:20260422T095540
CREATED:20241204T010434Z
LAST-MODIFIED:20251123T223251Z
UID:10129075-1792405800-1792408500@synergyhealthworks.com
SUMMARY:Matwork Core Class
DESCRIPTION:
URL:https://synergyhealthworks.com/event/matwork-core-class-12/2026-10-19/
LOCATION:Wagga Wagga | Mat Studio\, 221 Kincaid Street\, Wagga Wagga\, NSW\, 2650\, Australia
CATEGORIES:Matwork
END:VEVENT
BEGIN:VEVENT
DTSTART;TZID=Australia/Sydney:20261019T113000
DTEND;TZID=Australia/Sydney:20261019T121500
DTSTAMP:20260422T095540
CREATED:20251123T223427Z
LAST-MODIFIED:20251123T223427Z
UID:10129679-1792409400-1792412100@synergyhealthworks.com
SUMMARY:Mums and Bubs Core Class
DESCRIPTION:
URL:https://synergyhealthworks.com/event/mums-and-bubs-core-class-8/2026-10-19/
LOCATION:Wagga Wagga | Mat Studio\, 221 Kincaid Street\, Wagga Wagga\, NSW\, 2650\, Australia
CATEGORIES:Mums and Bubs
END:VEVENT
BEGIN:VEVENT
DTSTART;TZID=Australia/Sydney:20261020T123000
DTEND;TZID=Australia/Sydney:20261020T131500
DTSTAMP:20260422T095540
CREATED:20241204T010916Z
LAST-MODIFIED:20251123T223831Z
UID:10130065-1792499400-1792502100@synergyhealthworks.com
SUMMARY:Pregnancy Matwork Class
DESCRIPTION:
URL:https://synergyhealthworks.com/event/pregnancy-matwork-class-4/2026-10-20/
LOCATION:Wagga Wagga | Mat Studio\, 221 Kincaid Street\, Wagga Wagga\, NSW\, 2650\, Australia
CATEGORIES:Pregnancy Matwork
END:VEVENT
BEGIN:VEVENT
DTSTART;TZID=Australia/Sydney:20261021T123000
DTEND;TZID=Australia/Sydney:20261021T131500
DTSTAMP:20260422T095540
CREATED:20241204T014608Z
LAST-MODIFIED:20251123T221428Z
UID:10099329-1792585800-1792588500@synergyhealthworks.com
SUMMARY:Barre
DESCRIPTION:
URL:https://synergyhealthworks.com/event/barre-2/2026-10-21/
LOCATION:Wagga Wagga | Reformer Studio\, 221 Kincaid Street\, Wagga Wagga\, NSW\, 2650\, Australia
CATEGORIES:Barre
END:VEVENT
BEGIN:VEVENT
DTSTART;TZID=Australia/Sydney:20261021T140000
DTEND;TZID=Australia/Sydney:20261021T144500
DTSTAMP:20260422T095540
CREATED:20251123T222028Z
LAST-MODIFIED:20251123T222107Z
UID:10128231-1792591200-1792593900@synergyhealthworks.com
SUMMARY:Gentle Reformer
DESCRIPTION:
URL:https://synergyhealthworks.com/event/gentle-reformer-12/2026-10-21/
LOCATION:Wagga Wagga | Reformer Studio\, 221 Kincaid Street\, Wagga Wagga\, NSW\, 2650\, Australia
CATEGORIES:Clinical Reformer
END:VEVENT
BEGIN:VEVENT
DTSTART;TZID=Australia/Sydney:20261026T103000
DTEND;TZID=Australia/Sydney:20261026T111500
DTSTAMP:20260422T095540
CREATED:20241204T010434Z
LAST-MODIFIED:20251123T223251Z
UID:10129076-1793010600-1793013300@synergyhealthworks.com
SUMMARY:Matwork Core Class
DESCRIPTION:
URL:https://synergyhealthworks.com/event/matwork-core-class-12/2026-10-26/
LOCATION:Wagga Wagga | Mat Studio\, 221 Kincaid Street\, Wagga Wagga\, NSW\, 2650\, Australia
CATEGORIES:Matwork
END:VEVENT
BEGIN:VEVENT
DTSTART;TZID=Australia/Sydney:20261026T113000
DTEND;TZID=Australia/Sydney:20261026T121500
DTSTAMP:20260422T095540
CREATED:20251123T223427Z
LAST-MODIFIED:20251123T223427Z
UID:10129680-1793014200-1793016900@synergyhealthworks.com
SUMMARY:Mums and Bubs Core Class
DESCRIPTION:
URL:https://synergyhealthworks.com/event/mums-and-bubs-core-class-8/2026-10-26/
LOCATION:Wagga Wagga | Mat Studio\, 221 Kincaid Street\, Wagga Wagga\, NSW\, 2650\, Australia
CATEGORIES:Mums and Bubs
END:VEVENT
BEGIN:VEVENT
DTSTART;TZID=Australia/Sydney:20261027T123000
DTEND;TZID=Australia/Sydney:20261027T131500
DTSTAMP:20260422T095540
CREATED:20241204T010916Z
LAST-MODIFIED:20251123T223831Z
UID:10130066-1793104200-1793106900@synergyhealthworks.com
SUMMARY:Pregnancy Matwork Class
DESCRIPTION:
URL:https://synergyhealthworks.com/event/pregnancy-matwork-class-4/2026-10-27/
LOCATION:Wagga Wagga | Mat Studio\, 221 Kincaid Street\, Wagga Wagga\, NSW\, 2650\, Australia
CATEGORIES:Pregnancy Matwork
END:VEVENT
BEGIN:VEVENT
DTSTART;TZID=Australia/Sydney:20261028T123000
DTEND;TZID=Australia/Sydney:20261028T131500
DTSTAMP:20260422T095540
CREATED:20241204T014608Z
LAST-MODIFIED:20251123T221428Z
UID:10099330-1793190600-1793193300@synergyhealthworks.com
SUMMARY:Barre
DESCRIPTION:
URL:https://synergyhealthworks.com/event/barre-2/2026-10-28/
LOCATION:Wagga Wagga | Reformer Studio\, 221 Kincaid Street\, Wagga Wagga\, NSW\, 2650\, Australia
CATEGORIES:Barre
END:VEVENT
BEGIN:VEVENT
DTSTART;TZID=Australia/Sydney:20261028T140000
DTEND;TZID=Australia/Sydney:20261028T144500
DTSTAMP:20260422T095540
CREATED:20251123T222028Z
LAST-MODIFIED:20251123T222107Z
UID:10128232-1793196000-1793198700@synergyhealthworks.com
SUMMARY:Gentle Reformer
DESCRIPTION:
URL:https://synergyhealthworks.com/event/gentle-reformer-12/2026-10-28/
LOCATION:Wagga Wagga | Reformer Studio\, 221 Kincaid Street\, Wagga Wagga\, NSW\, 2650\, Australia
CATEGORIES:Clinical Reformer
END:VEVENT
BEGIN:VEVENT
DTSTART;TZID=Australia/Sydney:20261102T103000
DTEND;TZID=Australia/Sydney:20261102T111500
DTSTAMP:20260422T095540
CREATED:20241204T010434Z
LAST-MODIFIED:20251123T223251Z
UID:10129077-1793615400-1793618100@synergyhealthworks.com
SUMMARY:Matwork Core Class
DESCRIPTION:
URL:https://synergyhealthworks.com/event/matwork-core-class-12/2026-11-02/
LOCATION:Wagga Wagga | Mat Studio\, 221 Kincaid Street\, Wagga Wagga\, NSW\, 2650\, Australia
CATEGORIES:Matwork
END:VEVENT
END:VCALENDAR